BEGIN:VCALENDAR
VERSION:2.0
PRODID:-//Village Community Church, Kimberly, WI - ECPv6.15.20//NONSGML v1.0//EN
CALSCALE:GREGORIAN
METHOD:PUBLISH
X-WR-CALNAME:Village Community Church, Kimberly, WI
X-ORIGINAL-URL:https://villagecommunitychurch.net
X-WR-CALDESC:Events for Village Community Church, Kimberly, WI
REFRESH-INTERVAL;VALUE=DURATION:PT1H
X-Robots-Tag:noindex
X-PUBLISHED-TTL:PT1H
BEGIN:VTIMEZONE
TZID:America/Chicago
BEGIN:DAYLIGHT
TZOFFSETFROM:-0600
TZOFFSETTO:-0500
TZNAME:CDT
DTSTART:20250309T080000
END:DAYLIGHT
BEGIN:STANDARD
TZOFFSETFROM:-0500
TZOFFSETTO:-0600
TZNAME:CST
DTSTART:20251102T070000
END:STANDARD
BEGIN:DAYLIGHT
TZOFFSETFROM:-0600
TZOFFSETTO:-0500
TZNAME:CDT
DTSTART:20260308T080000
END:DAYLIGHT
BEGIN:STANDARD
TZOFFSETFROM:-0500
TZOFFSETTO:-0600
TZNAME:CST
DTSTART:20261101T070000
END:STANDARD
BEGIN:DAYLIGHT
TZOFFSETFROM:-0600
TZOFFSETTO:-0500
TZNAME:CDT
DTSTART:20270314T080000
END:DAYLIGHT
BEGIN:STANDARD
TZOFFSETFROM:-0500
TZOFFSETTO:-0600
TZNAME:CST
DTSTART:20271107T070000
END:STANDARD
END:VTIMEZONE
BEGIN:VEVENT
DTSTART;TZID=America/Chicago:20261108T093000
DTEND;TZID=America/Chicago:20261108T230000
DTSTAMP:20260419T182927
CREATED:20240507T212605Z
LAST-MODIFIED:20240507T212605Z
UID:10257062-1794130200-1794178800@villagecommunitychurch.net
SUMMARY:Worship Service
DESCRIPTION:We meet every Sunday morning at 9:30am for worship. Whether you want to dress up or come in jeans & T-shirt\, everyone is welcome. \nWe start off our service with a time of praise & music lead by our worship team. We then break for about 5-10 minutes for fellowship & refreshments. Then we come back for a heartfelt\, informative and educational message\, followed by a time of communion. The communion table is open to anyone who has professed a faith in Jesus Christ.
URL:https://villagecommunitychurch.net/event/worship-service/2026-11-08/
LOCATION:Village Community Church\, 662 Schelfhout Ln. Suite E\, Kimberly\, WI\, 54136\, United States
CATEGORIES:Worship Service
END:VEVENT
BEGIN:VEVENT
DTSTART;TZID=America/Chicago:20261110T183000
DTEND;TZID=America/Chicago:20261110T193000
DTSTAMP:20260419T182927
CREATED:20260107T192614Z
LAST-MODIFIED:20260107T192614Z
UID:10257987-1794335400-1794339000@villagecommunitychurch.net
SUMMARY:Adult Inductive Bible Study
DESCRIPTION:Join us as we deepen our understanding of how to study the Bible. All are welcome.
URL:https://villagecommunitychurch.net/event/adult-inductive-bible-study/2026-11-10/
LOCATION:Village Community Church\, 662 Schelfhout Ln. Suite E\, Kimberly\, WI\, 54136\, United States
CATEGORIES:Bible Study,Midweek Class/Gathering
END:VEVENT
BEGIN:VEVENT
DTSTART;TZID=America/Chicago:20261111T183000
DTEND;TZID=America/Chicago:20261111T200000
DTSTAMP:20260419T182927
CREATED:20260107T191954Z
LAST-MODIFIED:20260107T191954Z
UID:10257727-1794421800-1794427200@villagecommunitychurch.net
SUMMARY:Women's Wed night Bible Study
DESCRIPTION:All women are welcome to join us as we study Women of the Bible. We are currently in the Old Testament. The only book needed is a Bible!
URL:https://villagecommunitychurch.net/event/womens-wed-night-bible-study/2026-11-11/
LOCATION:Village Community Church\, 662 Schelfhout Ln. Suite E\, Kimberly\, WI\, 54136\, United States
CATEGORIES:Bible Study,Women's Event
END:VEVENT
BEGIN:VEVENT
DTSTART;TZID=America/Chicago:20261114T080000
DTEND;TZID=America/Chicago:20261114T093000
DTSTAMP:20260419T182927
CREATED:20250801T161819Z
LAST-MODIFIED:20250801T161819Z
UID:10257476-1794643200-1794648600@villagecommunitychurch.net
SUMMARY:Men's Bible Study
DESCRIPTION:Join us as we study the book of Judges. All men are welcome.
URL:https://villagecommunitychurch.net/event/mens-bible-study/2026-11-14/
LOCATION:Village Community Church\, 662 Schelfhout Ln. Suite E\, Kimberly\, WI\, 54136\, United States
CATEGORIES:Bible Study,Men's Event
END:VEVENT
END:VCALENDAR