BEGIN:VCALENDAR
VERSION:2.0
PRODID:-//Village Community Church, Kimberly, WI - ECPv6.15.20//NONSGML v1.0//EN
CALSCALE:GREGORIAN
METHOD:PUBLISH
X-WR-CALNAME:Village Community Church, Kimberly, WI
X-ORIGINAL-URL:https://villagecommunitychurch.net
X-WR-CALDESC:Events for Village Community Church, Kimberly, WI
REFRESH-INTERVAL;VALUE=DURATION:PT1H
X-Robots-Tag:noindex
X-PUBLISHED-TTL:PT1H
BEGIN:VTIMEZONE
TZID:America/Chicago
BEGIN:DAYLIGHT
TZOFFSETFROM:-0600
TZOFFSETTO:-0500
TZNAME:CDT
DTSTART:20240310T080000
END:DAYLIGHT
BEGIN:STANDARD
TZOFFSETFROM:-0500
TZOFFSETTO:-0600
TZNAME:CST
DTSTART:20241103T070000
END:STANDARD
BEGIN:DAYLIGHT
TZOFFSETFROM:-0600
TZOFFSETTO:-0500
TZNAME:CDT
DTSTART:20250309T080000
END:DAYLIGHT
BEGIN:STANDARD
TZOFFSETFROM:-0500
TZOFFSETTO:-0600
TZNAME:CST
DTSTART:20251102T070000
END:STANDARD
BEGIN:DAYLIGHT
TZOFFSETFROM:-0600
TZOFFSETTO:-0500
TZNAME:CDT
DTSTART:20260308T080000
END:DAYLIGHT
BEGIN:STANDARD
TZOFFSETFROM:-0500
TZOFFSETTO:-0600
TZNAME:CST
DTSTART:20261101T070000
END:STANDARD
END:VTIMEZONE
BEGIN:VEVENT
DTSTART;TZID=America/Chicago:20250803T093000
DTEND;TZID=America/Chicago:20250803T230000
DTSTAMP:20260422T040207
CREATED:20240507T212605Z
LAST-MODIFIED:20240507T212605Z
UID:10256996-1754213400-1754262000@villagecommunitychurch.net
SUMMARY:Worship Service
DESCRIPTION:We meet every Sunday morning at 9:30am for worship. Whether you want to dress up or come in jeans & T-shirt\, everyone is welcome. \nWe start off our service with a time of praise & music lead by our worship team. We then break for about 5-10 minutes for fellowship & refreshments. Then we come back for a heartfelt\, informative and educational message\, followed by a time of communion. The communion table is open to anyone who has professed a faith in Jesus Christ.
URL:https://villagecommunitychurch.net/event/worship-service/2025-08-03/
LOCATION:Village Community Church\, 662 Schelfhout Ln. Suite E\, Kimberly\, WI\, 54136\, United States
CATEGORIES:Worship Service
END:VEVENT
BEGIN:VEVENT
DTSTART;TZID=America/Chicago:20250803T120000
DTEND;TZID=America/Chicago:20250803T163000
DTSTAMP:20260422T040207
CREATED:20250707T173155Z
LAST-MODIFIED:20250707T173155Z
UID:10257388-1754222400-1754238600@villagecommunitychurch.net
SUMMARY:CHURCH PICNIC - BBQ
DESCRIPTION:VCC Family & Friends – \nJoin us after church for our annual church picnic/BBQ at Memorial Park in Combined Locks. \nIf you are able\, please sign up in the church foyer to bring a side dish\, dessert or drinks. If not\, please just come!!
URL:https://villagecommunitychurch.net/event/church-picnic-bbq/
LOCATION:Memorial Park\, Combined Locks\, 360 Wallace St.\, Combined Locks
CATEGORIES:Family Event,Special Event
END:VEVENT
BEGIN:VEVENT
DTSTART;TZID=America/Chicago:20250806T183000
DTEND;TZID=America/Chicago:20250806T200000
DTSTAMP:20260422T040207
CREATED:20250801T161353Z
LAST-MODIFIED:20250801T161353Z
UID:10257135-1754505000-1754510400@villagecommunitychurch.net
SUMMARY:Women's Mid-Week Study
DESCRIPTION:Join us this summer as we dive into 1 John. \nNO STUDY IN SEPT. We will resume our study of Women of the Bible in October. \nIf you would like to have your name on the email list to receive questions for the study or if you just have questions about the study overall\, please see Patty\, Chris\, or Sherry!
URL:https://villagecommunitychurch.net/event/womens-mid-week-study-8-2/2025-08-06/
LOCATION:Village Community Church\, 662 Schelfhout Ln. Suite E\, Kimberly\, WI\, 54136\, United States
CATEGORIES:Bible Study,Women's Event
ORGANIZER;CN="Machelle":MAILTO:emachellewells@gmail.com
END:VEVENT
BEGIN:VEVENT
DTSTART;TZID=America/Chicago:20250809T080000
DTEND;TZID=America/Chicago:20250809T093000
DTSTAMP:20260422T040207
CREATED:20250801T161819Z
LAST-MODIFIED:20250801T161819Z
UID:10257410-1754726400-1754731800@villagecommunitychurch.net
SUMMARY:Men's Bible Study
DESCRIPTION:Join us as we study the book of Judges. All men are welcome.
URL:https://villagecommunitychurch.net/event/mens-bible-study/2025-08-09/
LOCATION:Village Community Church\, 662 Schelfhout Ln. Suite E\, Kimberly\, WI\, 54136\, United States
CATEGORIES:Bible Study,Men's Event
END:VEVENT
END:VCALENDAR