BEGIN:VCALENDAR
VERSION:2.0
PRODID:-//Village Community Church, Kimberly, WI - ECPv6.15.20//NONSGML v1.0//EN
CALSCALE:GREGORIAN
METHOD:PUBLISH
X-WR-CALNAME:Village Community Church, Kimberly, WI
X-ORIGINAL-URL:https://villagecommunitychurch.net
X-WR-CALDESC:Events for Village Community Church, Kimberly, WI
REFRESH-INTERVAL;VALUE=DURATION:PT1H
X-Robots-Tag:noindex
X-PUBLISHED-TTL:PT1H
BEGIN:VTIMEZONE
TZID:America/Chicago
BEGIN:DAYLIGHT
TZOFFSETFROM:-0600
TZOFFSETTO:-0500
TZNAME:CDT
DTSTART:20250309T080000
END:DAYLIGHT
BEGIN:STANDARD
TZOFFSETFROM:-0500
TZOFFSETTO:-0600
TZNAME:CST
DTSTART:20251102T070000
END:STANDARD
BEGIN:DAYLIGHT
TZOFFSETFROM:-0600
TZOFFSETTO:-0500
TZNAME:CDT
DTSTART:20260308T080000
END:DAYLIGHT
BEGIN:STANDARD
TZOFFSETFROM:-0500
TZOFFSETTO:-0600
TZNAME:CST
DTSTART:20261101T070000
END:STANDARD
BEGIN:DAYLIGHT
TZOFFSETFROM:-0600
TZOFFSETTO:-0500
TZNAME:CDT
DTSTART:20270314T080000
END:DAYLIGHT
BEGIN:STANDARD
TZOFFSETFROM:-0500
TZOFFSETTO:-0600
TZNAME:CST
DTSTART:20271107T070000
END:STANDARD
END:VTIMEZONE
BEGIN:VEVENT
DTSTART;TZID=America/Chicago:20260919T080000
DTEND;TZID=America/Chicago:20260919T093000
DTSTAMP:20260423T141606
CREATED:20250801T161819Z
LAST-MODIFIED:20250801T161819Z
UID:10257468-1789804800-1789810200@villagecommunitychurch.net
SUMMARY:Men's Bible Study
DESCRIPTION:Join us as we study the book of Judges. All men are welcome.
URL:https://villagecommunitychurch.net/event/mens-bible-study/2026-09-19/
LOCATION:Village Community Church\, 662 Schelfhout Ln. Suite E\, Kimberly\, WI\, 54136\, United States
CATEGORIES:Bible Study,Men's Event
END:VEVENT
BEGIN:VEVENT
DTSTART;TZID=America/Chicago:20260920T093000
DTEND;TZID=America/Chicago:20260920T230000
DTSTAMP:20260423T141606
CREATED:20240507T212605Z
LAST-MODIFIED:20240507T212605Z
UID:10257055-1789896600-1789945200@villagecommunitychurch.net
SUMMARY:Worship Service
DESCRIPTION:We meet every Sunday morning at 9:30am for worship. Whether you want to dress up or come in jeans & T-shirt\, everyone is welcome. \nWe start off our service with a time of praise & music lead by our worship team. We then break for about 5-10 minutes for fellowship & refreshments. Then we come back for a heartfelt\, informative and educational message\, followed by a time of communion. The communion table is open to anyone who has professed a faith in Jesus Christ.
URL:https://villagecommunitychurch.net/event/worship-service/2026-09-20/
LOCATION:Village Community Church\, 662 Schelfhout Ln. Suite E\, Kimberly\, WI\, 54136\, United States
CATEGORIES:Worship Service
END:VEVENT
BEGIN:VEVENT
DTSTART;TZID=America/Chicago:20260922T183000
DTEND;TZID=America/Chicago:20260922T193000
DTSTAMP:20260423T141606
CREATED:20260107T192614Z
LAST-MODIFIED:20260107T192614Z
UID:10257980-1790101800-1790105400@villagecommunitychurch.net
SUMMARY:Adult Inductive Bible Study
DESCRIPTION:Join us as we deepen our understanding of how to study the Bible. All are welcome.
URL:https://villagecommunitychurch.net/event/adult-inductive-bible-study/2026-09-22/
LOCATION:Village Community Church\, 662 Schelfhout Ln. Suite E\, Kimberly\, WI\, 54136\, United States
CATEGORIES:Bible Study,Midweek Class/Gathering
END:VEVENT
BEGIN:VEVENT
DTSTART;TZID=America/Chicago:20260923T183000
DTEND;TZID=America/Chicago:20260923T200000
DTSTAMP:20260423T141606
CREATED:20260107T191954Z
LAST-MODIFIED:20260107T191954Z
UID:10257720-1790188200-1790193600@villagecommunitychurch.net
SUMMARY:Women's Wed night Bible Study
DESCRIPTION:All women are welcome to join us as we study Women of the Bible. We are currently in the Old Testament. The only book needed is a Bible!
URL:https://villagecommunitychurch.net/event/womens-wed-night-bible-study/2026-09-23/
LOCATION:Village Community Church\, 662 Schelfhout Ln. Suite E\, Kimberly\, WI\, 54136\, United States
CATEGORIES:Bible Study,Women's Event
END:VEVENT
BEGIN:VEVENT
DTSTART;TZID=America/Chicago:20260926T080000
DTEND;TZID=America/Chicago:20260926T093000
DTSTAMP:20260423T141606
CREATED:20250801T161819Z
LAST-MODIFIED:20250801T161819Z
UID:10257469-1790409600-1790415000@villagecommunitychurch.net
SUMMARY:Men's Bible Study
DESCRIPTION:Join us as we study the book of Judges. All men are welcome.
URL:https://villagecommunitychurch.net/event/mens-bible-study/2026-09-26/
LOCATION:Village Community Church\, 662 Schelfhout Ln. Suite E\, Kimberly\, WI\, 54136\, United States
CATEGORIES:Bible Study,Men's Event
END:VEVENT
BEGIN:VEVENT
DTSTART;TZID=America/Chicago:20260927T093000
DTEND;TZID=America/Chicago:20260927T230000
DTSTAMP:20260423T141606
CREATED:20240507T212605Z
LAST-MODIFIED:20240507T212605Z
UID:10257056-1790501400-1790550000@villagecommunitychurch.net
SUMMARY:Worship Service
DESCRIPTION:We meet every Sunday morning at 9:30am for worship. Whether you want to dress up or come in jeans & T-shirt\, everyone is welcome. \nWe start off our service with a time of praise & music lead by our worship team. We then break for about 5-10 minutes for fellowship & refreshments. Then we come back for a heartfelt\, informative and educational message\, followed by a time of communion. The communion table is open to anyone who has professed a faith in Jesus Christ.
URL:https://villagecommunitychurch.net/event/worship-service/2026-09-27/
LOCATION:Village Community Church\, 662 Schelfhout Ln. Suite E\, Kimberly\, WI\, 54136\, United States
CATEGORIES:Worship Service
END:VEVENT
BEGIN:VEVENT
DTSTART;TZID=America/Chicago:20260929T183000
DTEND;TZID=America/Chicago:20260929T193000
DTSTAMP:20260423T141606
CREATED:20260107T192614Z
LAST-MODIFIED:20260107T192614Z
UID:10257981-1790706600-1790710200@villagecommunitychurch.net
SUMMARY:Adult Inductive Bible Study
DESCRIPTION:Join us as we deepen our understanding of how to study the Bible. All are welcome.
URL:https://villagecommunitychurch.net/event/adult-inductive-bible-study/2026-09-29/
LOCATION:Village Community Church\, 662 Schelfhout Ln. Suite E\, Kimberly\, WI\, 54136\, United States
CATEGORIES:Bible Study,Midweek Class/Gathering
END:VEVENT
BEGIN:VEVENT
DTSTART;TZID=America/Chicago:20260930T183000
DTEND;TZID=America/Chicago:20260930T200000
DTSTAMP:20260423T141606
CREATED:20260107T191954Z
LAST-MODIFIED:20260107T191954Z
UID:10257721-1790793000-1790798400@villagecommunitychurch.net
SUMMARY:Women's Wed night Bible Study
DESCRIPTION:All women are welcome to join us as we study Women of the Bible. We are currently in the Old Testament. The only book needed is a Bible!
URL:https://villagecommunitychurch.net/event/womens-wed-night-bible-study/2026-09-30/
LOCATION:Village Community Church\, 662 Schelfhout Ln. Suite E\, Kimberly\, WI\, 54136\, United States
CATEGORIES:Bible Study,Women's Event
END:VEVENT
BEGIN:VEVENT
DTSTART;TZID=America/Chicago:20261003T080000
DTEND;TZID=America/Chicago:20261003T093000
DTSTAMP:20260423T141606
CREATED:20250801T161819Z
LAST-MODIFIED:20250801T161819Z
UID:10257470-1791014400-1791019800@villagecommunitychurch.net
SUMMARY:Men's Bible Study
DESCRIPTION:Join us as we study the book of Judges. All men are welcome.
URL:https://villagecommunitychurch.net/event/mens-bible-study/2026-10-03/
LOCATION:Village Community Church\, 662 Schelfhout Ln. Suite E\, Kimberly\, WI\, 54136\, United States
CATEGORIES:Bible Study,Men's Event
END:VEVENT
BEGIN:VEVENT
DTSTART;TZID=America/Chicago:20261004T093000
DTEND;TZID=America/Chicago:20261004T230000
DTSTAMP:20260423T141606
CREATED:20240507T212605Z
LAST-MODIFIED:20240507T212605Z
UID:10257057-1791106200-1791154800@villagecommunitychurch.net
SUMMARY:Worship Service
DESCRIPTION:We meet every Sunday morning at 9:30am for worship. Whether you want to dress up or come in jeans & T-shirt\, everyone is welcome. \nWe start off our service with a time of praise & music lead by our worship team. We then break for about 5-10 minutes for fellowship & refreshments. Then we come back for a heartfelt\, informative and educational message\, followed by a time of communion. The communion table is open to anyone who has professed a faith in Jesus Christ.
URL:https://villagecommunitychurch.net/event/worship-service/2026-10-04/
LOCATION:Village Community Church\, 662 Schelfhout Ln. Suite E\, Kimberly\, WI\, 54136\, United States
CATEGORIES:Worship Service
END:VEVENT
BEGIN:VEVENT
DTSTART;TZID=America/Chicago:20261006T183000
DTEND;TZID=America/Chicago:20261006T193000
DTSTAMP:20260423T141606
CREATED:20260107T192614Z
LAST-MODIFIED:20260107T192614Z
UID:10257982-1791311400-1791315000@villagecommunitychurch.net
SUMMARY:Adult Inductive Bible Study
DESCRIPTION:Join us as we deepen our understanding of how to study the Bible. All are welcome.
URL:https://villagecommunitychurch.net/event/adult-inductive-bible-study/2026-10-06/
LOCATION:Village Community Church\, 662 Schelfhout Ln. Suite E\, Kimberly\, WI\, 54136\, United States
CATEGORIES:Bible Study,Midweek Class/Gathering
END:VEVENT
BEGIN:VEVENT
DTSTART;TZID=America/Chicago:20261007T183000
DTEND;TZID=America/Chicago:20261007T200000
DTSTAMP:20260423T141606
CREATED:20260107T191954Z
LAST-MODIFIED:20260107T191954Z
UID:10257722-1791397800-1791403200@villagecommunitychurch.net
SUMMARY:Women's Wed night Bible Study
DESCRIPTION:All women are welcome to join us as we study Women of the Bible. We are currently in the Old Testament. The only book needed is a Bible!
URL:https://villagecommunitychurch.net/event/womens-wed-night-bible-study/2026-10-07/
LOCATION:Village Community Church\, 662 Schelfhout Ln. Suite E\, Kimberly\, WI\, 54136\, United States
CATEGORIES:Bible Study,Women's Event
END:VEVENT
BEGIN:VEVENT
DTSTART;TZID=America/Chicago:20261010T080000
DTEND;TZID=America/Chicago:20261010T093000
DTSTAMP:20260423T141606
CREATED:20250801T161819Z
LAST-MODIFIED:20250801T161819Z
UID:10257471-1791619200-1791624600@villagecommunitychurch.net
SUMMARY:Men's Bible Study
DESCRIPTION:Join us as we study the book of Judges. All men are welcome.
URL:https://villagecommunitychurch.net/event/mens-bible-study/2026-10-10/
LOCATION:Village Community Church\, 662 Schelfhout Ln. Suite E\, Kimberly\, WI\, 54136\, United States
CATEGORIES:Bible Study,Men's Event
END:VEVENT
BEGIN:VEVENT
DTSTART;TZID=America/Chicago:20261011T093000
DTEND;TZID=America/Chicago:20261011T230000
DTSTAMP:20260423T141606
CREATED:20240507T212605Z
LAST-MODIFIED:20240507T212605Z
UID:10257058-1791711000-1791759600@villagecommunitychurch.net
SUMMARY:Worship Service
DESCRIPTION:We meet every Sunday morning at 9:30am for worship. Whether you want to dress up or come in jeans & T-shirt\, everyone is welcome. \nWe start off our service with a time of praise & music lead by our worship team. We then break for about 5-10 minutes for fellowship & refreshments. Then we come back for a heartfelt\, informative and educational message\, followed by a time of communion. The communion table is open to anyone who has professed a faith in Jesus Christ.
URL:https://villagecommunitychurch.net/event/worship-service/2026-10-11/
LOCATION:Village Community Church\, 662 Schelfhout Ln. Suite E\, Kimberly\, WI\, 54136\, United States
CATEGORIES:Worship Service
END:VEVENT
BEGIN:VEVENT
DTSTART;TZID=America/Chicago:20261013T183000
DTEND;TZID=America/Chicago:20261013T193000
DTSTAMP:20260423T141606
CREATED:20260107T192614Z
LAST-MODIFIED:20260107T192614Z
UID:10257983-1791916200-1791919800@villagecommunitychurch.net
SUMMARY:Adult Inductive Bible Study
DESCRIPTION:Join us as we deepen our understanding of how to study the Bible. All are welcome.
URL:https://villagecommunitychurch.net/event/adult-inductive-bible-study/2026-10-13/
LOCATION:Village Community Church\, 662 Schelfhout Ln. Suite E\, Kimberly\, WI\, 54136\, United States
CATEGORIES:Bible Study,Midweek Class/Gathering
END:VEVENT
BEGIN:VEVENT
DTSTART;TZID=America/Chicago:20261014T183000
DTEND;TZID=America/Chicago:20261014T200000
DTSTAMP:20260423T141606
CREATED:20260107T191954Z
LAST-MODIFIED:20260107T191954Z
UID:10257723-1792002600-1792008000@villagecommunitychurch.net
SUMMARY:Women's Wed night Bible Study
DESCRIPTION:All women are welcome to join us as we study Women of the Bible. We are currently in the Old Testament. The only book needed is a Bible!
URL:https://villagecommunitychurch.net/event/womens-wed-night-bible-study/2026-10-14/
LOCATION:Village Community Church\, 662 Schelfhout Ln. Suite E\, Kimberly\, WI\, 54136\, United States
CATEGORIES:Bible Study,Women's Event
END:VEVENT
BEGIN:VEVENT
DTSTART;TZID=America/Chicago:20261017T080000
DTEND;TZID=America/Chicago:20261017T093000
DTSTAMP:20260423T141606
CREATED:20250801T161819Z
LAST-MODIFIED:20250801T161819Z
UID:10257472-1792224000-1792229400@villagecommunitychurch.net
SUMMARY:Men's Bible Study
DESCRIPTION:Join us as we study the book of Judges. All men are welcome.
URL:https://villagecommunitychurch.net/event/mens-bible-study/2026-10-17/
LOCATION:Village Community Church\, 662 Schelfhout Ln. Suite E\, Kimberly\, WI\, 54136\, United States
CATEGORIES:Bible Study,Men's Event
END:VEVENT
BEGIN:VEVENT
DTSTART;TZID=America/Chicago:20261018T093000
DTEND;TZID=America/Chicago:20261018T230000
DTSTAMP:20260423T141606
CREATED:20240507T212605Z
LAST-MODIFIED:20240507T212605Z
UID:10257059-1792315800-1792364400@villagecommunitychurch.net
SUMMARY:Worship Service
DESCRIPTION:We meet every Sunday morning at 9:30am for worship. Whether you want to dress up or come in jeans & T-shirt\, everyone is welcome. \nWe start off our service with a time of praise & music lead by our worship team. We then break for about 5-10 minutes for fellowship & refreshments. Then we come back for a heartfelt\, informative and educational message\, followed by a time of communion. The communion table is open to anyone who has professed a faith in Jesus Christ.
URL:https://villagecommunitychurch.net/event/worship-service/2026-10-18/
LOCATION:Village Community Church\, 662 Schelfhout Ln. Suite E\, Kimberly\, WI\, 54136\, United States
CATEGORIES:Worship Service
END:VEVENT
BEGIN:VEVENT
DTSTART;TZID=America/Chicago:20261020T183000
DTEND;TZID=America/Chicago:20261020T193000
DTSTAMP:20260423T141606
CREATED:20260107T192614Z
LAST-MODIFIED:20260107T192614Z
UID:10257984-1792521000-1792524600@villagecommunitychurch.net
SUMMARY:Adult Inductive Bible Study
DESCRIPTION:Join us as we deepen our understanding of how to study the Bible. All are welcome.
URL:https://villagecommunitychurch.net/event/adult-inductive-bible-study/2026-10-20/
LOCATION:Village Community Church\, 662 Schelfhout Ln. Suite E\, Kimberly\, WI\, 54136\, United States
CATEGORIES:Bible Study,Midweek Class/Gathering
END:VEVENT
BEGIN:VEVENT
DTSTART;TZID=America/Chicago:20261021T183000
DTEND;TZID=America/Chicago:20261021T200000
DTSTAMP:20260423T141606
CREATED:20260107T191954Z
LAST-MODIFIED:20260107T191954Z
UID:10257724-1792607400-1792612800@villagecommunitychurch.net
SUMMARY:Women's Wed night Bible Study
DESCRIPTION:All women are welcome to join us as we study Women of the Bible. We are currently in the Old Testament. The only book needed is a Bible!
URL:https://villagecommunitychurch.net/event/womens-wed-night-bible-study/2026-10-21/
LOCATION:Village Community Church\, 662 Schelfhout Ln. Suite E\, Kimberly\, WI\, 54136\, United States
CATEGORIES:Bible Study,Women's Event
END:VEVENT
BEGIN:VEVENT
DTSTART;TZID=America/Chicago:20261024T080000
DTEND;TZID=America/Chicago:20261024T093000
DTSTAMP:20260423T141606
CREATED:20250801T161819Z
LAST-MODIFIED:20250801T161819Z
UID:10257473-1792828800-1792834200@villagecommunitychurch.net
SUMMARY:Men's Bible Study
DESCRIPTION:Join us as we study the book of Judges. All men are welcome.
URL:https://villagecommunitychurch.net/event/mens-bible-study/2026-10-24/
LOCATION:Village Community Church\, 662 Schelfhout Ln. Suite E\, Kimberly\, WI\, 54136\, United States
CATEGORIES:Bible Study,Men's Event
END:VEVENT
BEGIN:VEVENT
DTSTART;TZID=America/Chicago:20261025T093000
DTEND;TZID=America/Chicago:20261025T230000
DTSTAMP:20260423T141606
CREATED:20240507T212605Z
LAST-MODIFIED:20240507T212605Z
UID:10257060-1792920600-1792969200@villagecommunitychurch.net
SUMMARY:Worship Service
DESCRIPTION:We meet every Sunday morning at 9:30am for worship. Whether you want to dress up or come in jeans & T-shirt\, everyone is welcome. \nWe start off our service with a time of praise & music lead by our worship team. We then break for about 5-10 minutes for fellowship & refreshments. Then we come back for a heartfelt\, informative and educational message\, followed by a time of communion. The communion table is open to anyone who has professed a faith in Jesus Christ.
URL:https://villagecommunitychurch.net/event/worship-service/2026-10-25/
LOCATION:Village Community Church\, 662 Schelfhout Ln. Suite E\, Kimberly\, WI\, 54136\, United States
CATEGORIES:Worship Service
END:VEVENT
BEGIN:VEVENT
DTSTART;TZID=America/Chicago:20261027T183000
DTEND;TZID=America/Chicago:20261027T193000
DTSTAMP:20260423T141606
CREATED:20260107T192614Z
LAST-MODIFIED:20260107T192614Z
UID:10257985-1793125800-1793129400@villagecommunitychurch.net
SUMMARY:Adult Inductive Bible Study
DESCRIPTION:Join us as we deepen our understanding of how to study the Bible. All are welcome.
URL:https://villagecommunitychurch.net/event/adult-inductive-bible-study/2026-10-27/
LOCATION:Village Community Church\, 662 Schelfhout Ln. Suite E\, Kimberly\, WI\, 54136\, United States
CATEGORIES:Bible Study,Midweek Class/Gathering
END:VEVENT
BEGIN:VEVENT
DTSTART;TZID=America/Chicago:20261028T183000
DTEND;TZID=America/Chicago:20261028T200000
DTSTAMP:20260423T141606
CREATED:20260107T191954Z
LAST-MODIFIED:20260107T191954Z
UID:10257725-1793212200-1793217600@villagecommunitychurch.net
SUMMARY:Women's Wed night Bible Study
DESCRIPTION:All women are welcome to join us as we study Women of the Bible. We are currently in the Old Testament. The only book needed is a Bible!
URL:https://villagecommunitychurch.net/event/womens-wed-night-bible-study/2026-10-28/
LOCATION:Village Community Church\, 662 Schelfhout Ln. Suite E\, Kimberly\, WI\, 54136\, United States
CATEGORIES:Bible Study,Women's Event
END:VEVENT
BEGIN:VEVENT
DTSTART;TZID=America/Chicago:20261031T080000
DTEND;TZID=America/Chicago:20261031T093000
DTSTAMP:20260423T141606
CREATED:20250801T161819Z
LAST-MODIFIED:20250801T161819Z
UID:10257474-1793433600-1793439000@villagecommunitychurch.net
SUMMARY:Men's Bible Study
DESCRIPTION:Join us as we study the book of Judges. All men are welcome.
URL:https://villagecommunitychurch.net/event/mens-bible-study/2026-10-31/
LOCATION:Village Community Church\, 662 Schelfhout Ln. Suite E\, Kimberly\, WI\, 54136\, United States
CATEGORIES:Bible Study,Men's Event
END:VEVENT
BEGIN:VEVENT
DTSTART;TZID=America/Chicago:20261101T093000
DTEND;TZID=America/Chicago:20261101T230000
DTSTAMP:20260423T141606
CREATED:20240507T212605Z
LAST-MODIFIED:20240507T212605Z
UID:10257061-1793525400-1793574000@villagecommunitychurch.net
SUMMARY:Worship Service
DESCRIPTION:We meet every Sunday morning at 9:30am for worship. Whether you want to dress up or come in jeans & T-shirt\, everyone is welcome. \nWe start off our service with a time of praise & music lead by our worship team. We then break for about 5-10 minutes for fellowship & refreshments. Then we come back for a heartfelt\, informative and educational message\, followed by a time of communion. The communion table is open to anyone who has professed a faith in Jesus Christ.
URL:https://villagecommunitychurch.net/event/worship-service/2026-11-01/
LOCATION:Village Community Church\, 662 Schelfhout Ln. Suite E\, Kimberly\, WI\, 54136\, United States
CATEGORIES:Worship Service
END:VEVENT
BEGIN:VEVENT
DTSTART;TZID=America/Chicago:20261103T183000
DTEND;TZID=America/Chicago:20261103T193000
DTSTAMP:20260423T141606
CREATED:20260107T192614Z
LAST-MODIFIED:20260107T192614Z
UID:10257986-1793730600-1793734200@villagecommunitychurch.net
SUMMARY:Adult Inductive Bible Study
DESCRIPTION:Join us as we deepen our understanding of how to study the Bible. All are welcome.
URL:https://villagecommunitychurch.net/event/adult-inductive-bible-study/2026-11-03/
LOCATION:Village Community Church\, 662 Schelfhout Ln. Suite E\, Kimberly\, WI\, 54136\, United States
CATEGORIES:Bible Study,Midweek Class/Gathering
END:VEVENT
BEGIN:VEVENT
DTSTART;TZID=America/Chicago:20261104T183000
DTEND;TZID=America/Chicago:20261104T200000
DTSTAMP:20260423T141606
CREATED:20260107T191954Z
LAST-MODIFIED:20260107T191954Z
UID:10257726-1793817000-1793822400@villagecommunitychurch.net
SUMMARY:Women's Wed night Bible Study
DESCRIPTION:All women are welcome to join us as we study Women of the Bible. We are currently in the Old Testament. The only book needed is a Bible!
URL:https://villagecommunitychurch.net/event/womens-wed-night-bible-study/2026-11-04/
LOCATION:Village Community Church\, 662 Schelfhout Ln. Suite E\, Kimberly\, WI\, 54136\, United States
CATEGORIES:Bible Study,Women's Event
END:VEVENT
BEGIN:VEVENT
DTSTART;TZID=America/Chicago:20261107T080000
DTEND;TZID=America/Chicago:20261107T093000
DTSTAMP:20260423T141606
CREATED:20250801T161819Z
LAST-MODIFIED:20250801T161819Z
UID:10257475-1794038400-1794043800@villagecommunitychurch.net
SUMMARY:Men's Bible Study
DESCRIPTION:Join us as we study the book of Judges. All men are welcome.
URL:https://villagecommunitychurch.net/event/mens-bible-study/2026-11-07/
LOCATION:Village Community Church\, 662 Schelfhout Ln. Suite E\, Kimberly\, WI\, 54136\, United States
CATEGORIES:Bible Study,Men's Event
END:VEVENT
BEGIN:VEVENT
DTSTART;TZID=America/Chicago:20261108T093000
DTEND;TZID=America/Chicago:20261108T230000
DTSTAMP:20260423T141606
CREATED:20240507T212605Z
LAST-MODIFIED:20240507T212605Z
UID:10257062-1794130200-1794178800@villagecommunitychurch.net
SUMMARY:Worship Service
DESCRIPTION:We meet every Sunday morning at 9:30am for worship. Whether you want to dress up or come in jeans & T-shirt\, everyone is welcome. \nWe start off our service with a time of praise & music lead by our worship team. We then break for about 5-10 minutes for fellowship & refreshments. Then we come back for a heartfelt\, informative and educational message\, followed by a time of communion. The communion table is open to anyone who has professed a faith in Jesus Christ.
URL:https://villagecommunitychurch.net/event/worship-service/2026-11-08/
LOCATION:Village Community Church\, 662 Schelfhout Ln. Suite E\, Kimberly\, WI\, 54136\, United States
CATEGORIES:Worship Service
END:VEVENT
END:VCALENDAR