BEGIN:VCALENDAR
VERSION:2.0
PRODID:-//Village Community Church, Kimberly, WI - ECPv6.15.20//NONSGML v1.0//EN
CALSCALE:GREGORIAN
METHOD:PUBLISH
X-WR-CALNAME:Village Community Church, Kimberly, WI
X-ORIGINAL-URL:https://villagecommunitychurch.net
X-WR-CALDESC:Events for Village Community Church, Kimberly, WI
REFRESH-INTERVAL;VALUE=DURATION:PT1H
X-Robots-Tag:noindex
X-PUBLISHED-TTL:PT1H
BEGIN:VTIMEZONE
TZID:America/Chicago
BEGIN:DAYLIGHT
TZOFFSETFROM:-0600
TZOFFSETTO:-0500
TZNAME:CDT
DTSTART:20250309T080000
END:DAYLIGHT
BEGIN:STANDARD
TZOFFSETFROM:-0500
TZOFFSETTO:-0600
TZNAME:CST
DTSTART:20251102T070000
END:STANDARD
BEGIN:DAYLIGHT
TZOFFSETFROM:-0600
TZOFFSETTO:-0500
TZNAME:CDT
DTSTART:20260308T080000
END:DAYLIGHT
BEGIN:STANDARD
TZOFFSETFROM:-0500
TZOFFSETTO:-0600
TZNAME:CST
DTSTART:20261101T070000
END:STANDARD
BEGIN:DAYLIGHT
TZOFFSETFROM:-0600
TZOFFSETTO:-0500
TZNAME:CDT
DTSTART:20270314T080000
END:DAYLIGHT
BEGIN:STANDARD
TZOFFSETFROM:-0500
TZOFFSETTO:-0600
TZNAME:CST
DTSTART:20271107T070000
END:STANDARD
END:VTIMEZONE
BEGIN:VEVENT
DTSTART;TZID=America/Chicago:20260808T080000
DTEND;TZID=America/Chicago:20260808T093000
DTSTAMP:20260423T111554
CREATED:20250801T161819Z
LAST-MODIFIED:20250801T161819Z
UID:10257462-1786176000-1786181400@villagecommunitychurch.net
SUMMARY:Men's Bible Study
DESCRIPTION:Join us as we study the book of Judges. All men are welcome.
URL:https://villagecommunitychurch.net/event/mens-bible-study/2026-08-08/
LOCATION:Village Community Church\, 662 Schelfhout Ln. Suite E\, Kimberly\, WI\, 54136\, United States
CATEGORIES:Bible Study,Men's Event
END:VEVENT
BEGIN:VEVENT
DTSTART;TZID=America/Chicago:20260809T093000
DTEND;TZID=America/Chicago:20260809T230000
DTSTAMP:20260423T111554
CREATED:20240507T212605Z
LAST-MODIFIED:20240507T212605Z
UID:10257049-1786267800-1786316400@villagecommunitychurch.net
SUMMARY:Worship Service
DESCRIPTION:We meet every Sunday morning at 9:30am for worship. Whether you want to dress up or come in jeans & T-shirt\, everyone is welcome. \nWe start off our service with a time of praise & music lead by our worship team. We then break for about 5-10 minutes for fellowship & refreshments. Then we come back for a heartfelt\, informative and educational message\, followed by a time of communion. The communion table is open to anyone who has professed a faith in Jesus Christ.
URL:https://villagecommunitychurch.net/event/worship-service/2026-08-09/
LOCATION:Village Community Church\, 662 Schelfhout Ln. Suite E\, Kimberly\, WI\, 54136\, United States
CATEGORIES:Worship Service
END:VEVENT
BEGIN:VEVENT
DTSTART;TZID=America/Chicago:20260811T183000
DTEND;TZID=America/Chicago:20260811T193000
DTSTAMP:20260423T111554
CREATED:20260107T192614Z
LAST-MODIFIED:20260107T192614Z
UID:10257974-1786473000-1786476600@villagecommunitychurch.net
SUMMARY:Adult Inductive Bible Study
DESCRIPTION:Join us as we deepen our understanding of how to study the Bible. All are welcome.
URL:https://villagecommunitychurch.net/event/adult-inductive-bible-study/2026-08-11/
LOCATION:Village Community Church\, 662 Schelfhout Ln. Suite E\, Kimberly\, WI\, 54136\, United States
CATEGORIES:Bible Study,Midweek Class/Gathering
END:VEVENT
BEGIN:VEVENT
DTSTART;TZID=America/Chicago:20260812T183000
DTEND;TZID=America/Chicago:20260812T200000
DTSTAMP:20260423T111554
CREATED:20260107T191954Z
LAST-MODIFIED:20260107T191954Z
UID:10257714-1786559400-1786564800@villagecommunitychurch.net
SUMMARY:Women's Wed night Bible Study
DESCRIPTION:All women are welcome to join us as we study Women of the Bible. We are currently in the Old Testament. The only book needed is a Bible!
URL:https://villagecommunitychurch.net/event/womens-wed-night-bible-study/2026-08-12/
LOCATION:Village Community Church\, 662 Schelfhout Ln. Suite E\, Kimberly\, WI\, 54136\, United States
CATEGORIES:Bible Study,Women's Event
END:VEVENT
BEGIN:VEVENT
DTSTART;TZID=America/Chicago:20260815T080000
DTEND;TZID=America/Chicago:20260815T093000
DTSTAMP:20260423T111554
CREATED:20250801T161819Z
LAST-MODIFIED:20250801T161819Z
UID:10257463-1786780800-1786786200@villagecommunitychurch.net
SUMMARY:Men's Bible Study
DESCRIPTION:Join us as we study the book of Judges. All men are welcome.
URL:https://villagecommunitychurch.net/event/mens-bible-study/2026-08-15/
LOCATION:Village Community Church\, 662 Schelfhout Ln. Suite E\, Kimberly\, WI\, 54136\, United States
CATEGORIES:Bible Study,Men's Event
END:VEVENT
BEGIN:VEVENT
DTSTART;TZID=America/Chicago:20260816T093000
DTEND;TZID=America/Chicago:20260816T230000
DTSTAMP:20260423T111554
CREATED:20240507T212605Z
LAST-MODIFIED:20240507T212605Z
UID:10257050-1786872600-1786921200@villagecommunitychurch.net
SUMMARY:Worship Service
DESCRIPTION:We meet every Sunday morning at 9:30am for worship. Whether you want to dress up or come in jeans & T-shirt\, everyone is welcome. \nWe start off our service with a time of praise & music lead by our worship team. We then break for about 5-10 minutes for fellowship & refreshments. Then we come back for a heartfelt\, informative and educational message\, followed by a time of communion. The communion table is open to anyone who has professed a faith in Jesus Christ.
URL:https://villagecommunitychurch.net/event/worship-service/2026-08-16/
LOCATION:Village Community Church\, 662 Schelfhout Ln. Suite E\, Kimberly\, WI\, 54136\, United States
CATEGORIES:Worship Service
END:VEVENT
BEGIN:VEVENT
DTSTART;TZID=America/Chicago:20260818T183000
DTEND;TZID=America/Chicago:20260818T193000
DTSTAMP:20260423T111554
CREATED:20260107T192614Z
LAST-MODIFIED:20260107T192614Z
UID:10257975-1787077800-1787081400@villagecommunitychurch.net
SUMMARY:Adult Inductive Bible Study
DESCRIPTION:Join us as we deepen our understanding of how to study the Bible. All are welcome.
URL:https://villagecommunitychurch.net/event/adult-inductive-bible-study/2026-08-18/
LOCATION:Village Community Church\, 662 Schelfhout Ln. Suite E\, Kimberly\, WI\, 54136\, United States
CATEGORIES:Bible Study,Midweek Class/Gathering
END:VEVENT
BEGIN:VEVENT
DTSTART;TZID=America/Chicago:20260819T183000
DTEND;TZID=America/Chicago:20260819T200000
DTSTAMP:20260423T111554
CREATED:20260107T191954Z
LAST-MODIFIED:20260107T191954Z
UID:10257715-1787164200-1787169600@villagecommunitychurch.net
SUMMARY:Women's Wed night Bible Study
DESCRIPTION:All women are welcome to join us as we study Women of the Bible. We are currently in the Old Testament. The only book needed is a Bible!
URL:https://villagecommunitychurch.net/event/womens-wed-night-bible-study/2026-08-19/
LOCATION:Village Community Church\, 662 Schelfhout Ln. Suite E\, Kimberly\, WI\, 54136\, United States
CATEGORIES:Bible Study,Women's Event
END:VEVENT
BEGIN:VEVENT
DTSTART;TZID=America/Chicago:20260822T080000
DTEND;TZID=America/Chicago:20260822T093000
DTSTAMP:20260423T111554
CREATED:20250801T161819Z
LAST-MODIFIED:20250801T161819Z
UID:10257464-1787385600-1787391000@villagecommunitychurch.net
SUMMARY:Men's Bible Study
DESCRIPTION:Join us as we study the book of Judges. All men are welcome.
URL:https://villagecommunitychurch.net/event/mens-bible-study/2026-08-22/
LOCATION:Village Community Church\, 662 Schelfhout Ln. Suite E\, Kimberly\, WI\, 54136\, United States
CATEGORIES:Bible Study,Men's Event
END:VEVENT
BEGIN:VEVENT
DTSTART;TZID=America/Chicago:20260823T093000
DTEND;TZID=America/Chicago:20260823T230000
DTSTAMP:20260423T111554
CREATED:20240507T212605Z
LAST-MODIFIED:20240507T212605Z
UID:10257051-1787477400-1787526000@villagecommunitychurch.net
SUMMARY:Worship Service
DESCRIPTION:We meet every Sunday morning at 9:30am for worship. Whether you want to dress up or come in jeans & T-shirt\, everyone is welcome. \nWe start off our service with a time of praise & music lead by our worship team. We then break for about 5-10 minutes for fellowship & refreshments. Then we come back for a heartfelt\, informative and educational message\, followed by a time of communion. The communion table is open to anyone who has professed a faith in Jesus Christ.
URL:https://villagecommunitychurch.net/event/worship-service/2026-08-23/
LOCATION:Village Community Church\, 662 Schelfhout Ln. Suite E\, Kimberly\, WI\, 54136\, United States
CATEGORIES:Worship Service
END:VEVENT
BEGIN:VEVENT
DTSTART;TZID=America/Chicago:20260825T183000
DTEND;TZID=America/Chicago:20260825T193000
DTSTAMP:20260423T111554
CREATED:20260107T192614Z
LAST-MODIFIED:20260107T192614Z
UID:10257976-1787682600-1787686200@villagecommunitychurch.net
SUMMARY:Adult Inductive Bible Study
DESCRIPTION:Join us as we deepen our understanding of how to study the Bible. All are welcome.
URL:https://villagecommunitychurch.net/event/adult-inductive-bible-study/2026-08-25/
LOCATION:Village Community Church\, 662 Schelfhout Ln. Suite E\, Kimberly\, WI\, 54136\, United States
CATEGORIES:Bible Study,Midweek Class/Gathering
END:VEVENT
BEGIN:VEVENT
DTSTART;TZID=America/Chicago:20260826T183000
DTEND;TZID=America/Chicago:20260826T200000
DTSTAMP:20260423T111554
CREATED:20260107T191954Z
LAST-MODIFIED:20260107T191954Z
UID:10257716-1787769000-1787774400@villagecommunitychurch.net
SUMMARY:Women's Wed night Bible Study
DESCRIPTION:All women are welcome to join us as we study Women of the Bible. We are currently in the Old Testament. The only book needed is a Bible!
URL:https://villagecommunitychurch.net/event/womens-wed-night-bible-study/2026-08-26/
LOCATION:Village Community Church\, 662 Schelfhout Ln. Suite E\, Kimberly\, WI\, 54136\, United States
CATEGORIES:Bible Study,Women's Event
END:VEVENT
BEGIN:VEVENT
DTSTART;TZID=America/Chicago:20260829T080000
DTEND;TZID=America/Chicago:20260829T093000
DTSTAMP:20260423T111554
CREATED:20250801T161819Z
LAST-MODIFIED:20250801T161819Z
UID:10257465-1787990400-1787995800@villagecommunitychurch.net
SUMMARY:Men's Bible Study
DESCRIPTION:Join us as we study the book of Judges. All men are welcome.
URL:https://villagecommunitychurch.net/event/mens-bible-study/2026-08-29/
LOCATION:Village Community Church\, 662 Schelfhout Ln. Suite E\, Kimberly\, WI\, 54136\, United States
CATEGORIES:Bible Study,Men's Event
END:VEVENT
BEGIN:VEVENT
DTSTART;TZID=America/Chicago:20260830T093000
DTEND;TZID=America/Chicago:20260830T230000
DTSTAMP:20260423T111554
CREATED:20240507T212605Z
LAST-MODIFIED:20240507T212605Z
UID:10257052-1788082200-1788130800@villagecommunitychurch.net
SUMMARY:Worship Service
DESCRIPTION:We meet every Sunday morning at 9:30am for worship. Whether you want to dress up or come in jeans & T-shirt\, everyone is welcome. \nWe start off our service with a time of praise & music lead by our worship team. We then break for about 5-10 minutes for fellowship & refreshments. Then we come back for a heartfelt\, informative and educational message\, followed by a time of communion. The communion table is open to anyone who has professed a faith in Jesus Christ.
URL:https://villagecommunitychurch.net/event/worship-service/2026-08-30/
LOCATION:Village Community Church\, 662 Schelfhout Ln. Suite E\, Kimberly\, WI\, 54136\, United States
CATEGORIES:Worship Service
END:VEVENT
BEGIN:VEVENT
DTSTART;TZID=America/Chicago:20260901T183000
DTEND;TZID=America/Chicago:20260901T193000
DTSTAMP:20260423T111554
CREATED:20260107T192614Z
LAST-MODIFIED:20260107T192614Z
UID:10257977-1788287400-1788291000@villagecommunitychurch.net
SUMMARY:Adult Inductive Bible Study
DESCRIPTION:Join us as we deepen our understanding of how to study the Bible. All are welcome.
URL:https://villagecommunitychurch.net/event/adult-inductive-bible-study/2026-09-01/
LOCATION:Village Community Church\, 662 Schelfhout Ln. Suite E\, Kimberly\, WI\, 54136\, United States
CATEGORIES:Bible Study,Midweek Class/Gathering
END:VEVENT
BEGIN:VEVENT
DTSTART;TZID=America/Chicago:20260902T183000
DTEND;TZID=America/Chicago:20260902T200000
DTSTAMP:20260423T111554
CREATED:20260107T191954Z
LAST-MODIFIED:20260107T191954Z
UID:10257717-1788373800-1788379200@villagecommunitychurch.net
SUMMARY:Women's Wed night Bible Study
DESCRIPTION:All women are welcome to join us as we study Women of the Bible. We are currently in the Old Testament. The only book needed is a Bible!
URL:https://villagecommunitychurch.net/event/womens-wed-night-bible-study/2026-09-02/
LOCATION:Village Community Church\, 662 Schelfhout Ln. Suite E\, Kimberly\, WI\, 54136\, United States
CATEGORIES:Bible Study,Women's Event
END:VEVENT
BEGIN:VEVENT
DTSTART;TZID=America/Chicago:20260905T080000
DTEND;TZID=America/Chicago:20260905T093000
DTSTAMP:20260423T111554
CREATED:20250801T161819Z
LAST-MODIFIED:20250801T161819Z
UID:10257466-1788595200-1788600600@villagecommunitychurch.net
SUMMARY:Men's Bible Study
DESCRIPTION:Join us as we study the book of Judges. All men are welcome.
URL:https://villagecommunitychurch.net/event/mens-bible-study/2026-09-05/
LOCATION:Village Community Church\, 662 Schelfhout Ln. Suite E\, Kimberly\, WI\, 54136\, United States
CATEGORIES:Bible Study,Men's Event
END:VEVENT
BEGIN:VEVENT
DTSTART;TZID=America/Chicago:20260906T093000
DTEND;TZID=America/Chicago:20260906T230000
DTSTAMP:20260423T111554
CREATED:20240507T212605Z
LAST-MODIFIED:20240507T212605Z
UID:10257053-1788687000-1788735600@villagecommunitychurch.net
SUMMARY:Worship Service
DESCRIPTION:We meet every Sunday morning at 9:30am for worship. Whether you want to dress up or come in jeans & T-shirt\, everyone is welcome. \nWe start off our service with a time of praise & music lead by our worship team. We then break for about 5-10 minutes for fellowship & refreshments. Then we come back for a heartfelt\, informative and educational message\, followed by a time of communion. The communion table is open to anyone who has professed a faith in Jesus Christ.
URL:https://villagecommunitychurch.net/event/worship-service/2026-09-06/
LOCATION:Village Community Church\, 662 Schelfhout Ln. Suite E\, Kimberly\, WI\, 54136\, United States
CATEGORIES:Worship Service
END:VEVENT
BEGIN:VEVENT
DTSTART;TZID=America/Chicago:20260908T183000
DTEND;TZID=America/Chicago:20260908T193000
DTSTAMP:20260423T111554
CREATED:20260107T192614Z
LAST-MODIFIED:20260107T192614Z
UID:10257978-1788892200-1788895800@villagecommunitychurch.net
SUMMARY:Adult Inductive Bible Study
DESCRIPTION:Join us as we deepen our understanding of how to study the Bible. All are welcome.
URL:https://villagecommunitychurch.net/event/adult-inductive-bible-study/2026-09-08/
LOCATION:Village Community Church\, 662 Schelfhout Ln. Suite E\, Kimberly\, WI\, 54136\, United States
CATEGORIES:Bible Study,Midweek Class/Gathering
END:VEVENT
BEGIN:VEVENT
DTSTART;TZID=America/Chicago:20260909T183000
DTEND;TZID=America/Chicago:20260909T200000
DTSTAMP:20260423T111554
CREATED:20260107T191954Z
LAST-MODIFIED:20260107T191954Z
UID:10257718-1788978600-1788984000@villagecommunitychurch.net
SUMMARY:Women's Wed night Bible Study
DESCRIPTION:All women are welcome to join us as we study Women of the Bible. We are currently in the Old Testament. The only book needed is a Bible!
URL:https://villagecommunitychurch.net/event/womens-wed-night-bible-study/2026-09-09/
LOCATION:Village Community Church\, 662 Schelfhout Ln. Suite E\, Kimberly\, WI\, 54136\, United States
CATEGORIES:Bible Study,Women's Event
END:VEVENT
BEGIN:VEVENT
DTSTART;TZID=America/Chicago:20260912T080000
DTEND;TZID=America/Chicago:20260912T093000
DTSTAMP:20260423T111554
CREATED:20250801T161819Z
LAST-MODIFIED:20250801T161819Z
UID:10257467-1789200000-1789205400@villagecommunitychurch.net
SUMMARY:Men's Bible Study
DESCRIPTION:Join us as we study the book of Judges. All men are welcome.
URL:https://villagecommunitychurch.net/event/mens-bible-study/2026-09-12/
LOCATION:Village Community Church\, 662 Schelfhout Ln. Suite E\, Kimberly\, WI\, 54136\, United States
CATEGORIES:Bible Study,Men's Event
END:VEVENT
BEGIN:VEVENT
DTSTART;TZID=America/Chicago:20260913T093000
DTEND;TZID=America/Chicago:20260913T230000
DTSTAMP:20260423T111554
CREATED:20240507T212605Z
LAST-MODIFIED:20240507T212605Z
UID:10257054-1789291800-1789340400@villagecommunitychurch.net
SUMMARY:Worship Service
DESCRIPTION:We meet every Sunday morning at 9:30am for worship. Whether you want to dress up or come in jeans & T-shirt\, everyone is welcome. \nWe start off our service with a time of praise & music lead by our worship team. We then break for about 5-10 minutes for fellowship & refreshments. Then we come back for a heartfelt\, informative and educational message\, followed by a time of communion. The communion table is open to anyone who has professed a faith in Jesus Christ.
URL:https://villagecommunitychurch.net/event/worship-service/2026-09-13/
LOCATION:Village Community Church\, 662 Schelfhout Ln. Suite E\, Kimberly\, WI\, 54136\, United States
CATEGORIES:Worship Service
END:VEVENT
BEGIN:VEVENT
DTSTART;TZID=America/Chicago:20260915T183000
DTEND;TZID=America/Chicago:20260915T193000
DTSTAMP:20260423T111554
CREATED:20260107T192614Z
LAST-MODIFIED:20260107T192614Z
UID:10257979-1789497000-1789500600@villagecommunitychurch.net
SUMMARY:Adult Inductive Bible Study
DESCRIPTION:Join us as we deepen our understanding of how to study the Bible. All are welcome.
URL:https://villagecommunitychurch.net/event/adult-inductive-bible-study/2026-09-15/
LOCATION:Village Community Church\, 662 Schelfhout Ln. Suite E\, Kimberly\, WI\, 54136\, United States
CATEGORIES:Bible Study,Midweek Class/Gathering
END:VEVENT
BEGIN:VEVENT
DTSTART;TZID=America/Chicago:20260916T183000
DTEND;TZID=America/Chicago:20260916T200000
DTSTAMP:20260423T111554
CREATED:20260107T191954Z
LAST-MODIFIED:20260107T191954Z
UID:10257719-1789583400-1789588800@villagecommunitychurch.net
SUMMARY:Women's Wed night Bible Study
DESCRIPTION:All women are welcome to join us as we study Women of the Bible. We are currently in the Old Testament. The only book needed is a Bible!
URL:https://villagecommunitychurch.net/event/womens-wed-night-bible-study/2026-09-16/
LOCATION:Village Community Church\, 662 Schelfhout Ln. Suite E\, Kimberly\, WI\, 54136\, United States
CATEGORIES:Bible Study,Women's Event
END:VEVENT
BEGIN:VEVENT
DTSTART;TZID=America/Chicago:20260919T080000
DTEND;TZID=America/Chicago:20260919T093000
DTSTAMP:20260423T111554
CREATED:20250801T161819Z
LAST-MODIFIED:20250801T161819Z
UID:10257468-1789804800-1789810200@villagecommunitychurch.net
SUMMARY:Men's Bible Study
DESCRIPTION:Join us as we study the book of Judges. All men are welcome.
URL:https://villagecommunitychurch.net/event/mens-bible-study/2026-09-19/
LOCATION:Village Community Church\, 662 Schelfhout Ln. Suite E\, Kimberly\, WI\, 54136\, United States
CATEGORIES:Bible Study,Men's Event
END:VEVENT
BEGIN:VEVENT
DTSTART;TZID=America/Chicago:20260920T093000
DTEND;TZID=America/Chicago:20260920T230000
DTSTAMP:20260423T111554
CREATED:20240507T212605Z
LAST-MODIFIED:20240507T212605Z
UID:10257055-1789896600-1789945200@villagecommunitychurch.net
SUMMARY:Worship Service
DESCRIPTION:We meet every Sunday morning at 9:30am for worship. Whether you want to dress up or come in jeans & T-shirt\, everyone is welcome. \nWe start off our service with a time of praise & music lead by our worship team. We then break for about 5-10 minutes for fellowship & refreshments. Then we come back for a heartfelt\, informative and educational message\, followed by a time of communion. The communion table is open to anyone who has professed a faith in Jesus Christ.
URL:https://villagecommunitychurch.net/event/worship-service/2026-09-20/
LOCATION:Village Community Church\, 662 Schelfhout Ln. Suite E\, Kimberly\, WI\, 54136\, United States
CATEGORIES:Worship Service
END:VEVENT
BEGIN:VEVENT
DTSTART;TZID=America/Chicago:20260922T183000
DTEND;TZID=America/Chicago:20260922T193000
DTSTAMP:20260423T111554
CREATED:20260107T192614Z
LAST-MODIFIED:20260107T192614Z
UID:10257980-1790101800-1790105400@villagecommunitychurch.net
SUMMARY:Adult Inductive Bible Study
DESCRIPTION:Join us as we deepen our understanding of how to study the Bible. All are welcome.
URL:https://villagecommunitychurch.net/event/adult-inductive-bible-study/2026-09-22/
LOCATION:Village Community Church\, 662 Schelfhout Ln. Suite E\, Kimberly\, WI\, 54136\, United States
CATEGORIES:Bible Study,Midweek Class/Gathering
END:VEVENT
BEGIN:VEVENT
DTSTART;TZID=America/Chicago:20260923T183000
DTEND;TZID=America/Chicago:20260923T200000
DTSTAMP:20260423T111554
CREATED:20260107T191954Z
LAST-MODIFIED:20260107T191954Z
UID:10257720-1790188200-1790193600@villagecommunitychurch.net
SUMMARY:Women's Wed night Bible Study
DESCRIPTION:All women are welcome to join us as we study Women of the Bible. We are currently in the Old Testament. The only book needed is a Bible!
URL:https://villagecommunitychurch.net/event/womens-wed-night-bible-study/2026-09-23/
LOCATION:Village Community Church\, 662 Schelfhout Ln. Suite E\, Kimberly\, WI\, 54136\, United States
CATEGORIES:Bible Study,Women's Event
END:VEVENT
BEGIN:VEVENT
DTSTART;TZID=America/Chicago:20260926T080000
DTEND;TZID=America/Chicago:20260926T093000
DTSTAMP:20260423T111554
CREATED:20250801T161819Z
LAST-MODIFIED:20250801T161819Z
UID:10257469-1790409600-1790415000@villagecommunitychurch.net
SUMMARY:Men's Bible Study
DESCRIPTION:Join us as we study the book of Judges. All men are welcome.
URL:https://villagecommunitychurch.net/event/mens-bible-study/2026-09-26/
LOCATION:Village Community Church\, 662 Schelfhout Ln. Suite E\, Kimberly\, WI\, 54136\, United States
CATEGORIES:Bible Study,Men's Event
END:VEVENT
BEGIN:VEVENT
DTSTART;TZID=America/Chicago:20260927T093000
DTEND;TZID=America/Chicago:20260927T230000
DTSTAMP:20260423T111554
CREATED:20240507T212605Z
LAST-MODIFIED:20240507T212605Z
UID:10257056-1790501400-1790550000@villagecommunitychurch.net
SUMMARY:Worship Service
DESCRIPTION:We meet every Sunday morning at 9:30am for worship. Whether you want to dress up or come in jeans & T-shirt\, everyone is welcome. \nWe start off our service with a time of praise & music lead by our worship team. We then break for about 5-10 minutes for fellowship & refreshments. Then we come back for a heartfelt\, informative and educational message\, followed by a time of communion. The communion table is open to anyone who has professed a faith in Jesus Christ.
URL:https://villagecommunitychurch.net/event/worship-service/2026-09-27/
LOCATION:Village Community Church\, 662 Schelfhout Ln. Suite E\, Kimberly\, WI\, 54136\, United States
CATEGORIES:Worship Service
END:VEVENT
END:VCALENDAR