BEGIN:VCALENDAR
VERSION:2.0
PRODID:-//Village Community Church, Kimberly, WI - ECPv6.15.20//NONSGML v1.0//EN
CALSCALE:GREGORIAN
METHOD:PUBLISH
X-WR-CALNAME:Village Community Church, Kimberly, WI
X-ORIGINAL-URL:https://villagecommunitychurch.net
X-WR-CALDESC:Events for Village Community Church, Kimberly, WI
REFRESH-INTERVAL;VALUE=DURATION:PT1H
X-Robots-Tag:noindex
X-PUBLISHED-TTL:PT1H
BEGIN:VTIMEZONE
TZID:America/Chicago
BEGIN:DAYLIGHT
TZOFFSETFROM:-0600
TZOFFSETTO:-0500
TZNAME:CDT
DTSTART:20250309T080000
END:DAYLIGHT
BEGIN:STANDARD
TZOFFSETFROM:-0500
TZOFFSETTO:-0600
TZNAME:CST
DTSTART:20251102T070000
END:STANDARD
BEGIN:DAYLIGHT
TZOFFSETFROM:-0600
TZOFFSETTO:-0500
TZNAME:CDT
DTSTART:20260308T080000
END:DAYLIGHT
BEGIN:STANDARD
TZOFFSETFROM:-0500
TZOFFSETTO:-0600
TZNAME:CST
DTSTART:20261101T070000
END:STANDARD
BEGIN:DAYLIGHT
TZOFFSETFROM:-0600
TZOFFSETTO:-0500
TZNAME:CDT
DTSTART:20270314T080000
END:DAYLIGHT
BEGIN:STANDARD
TZOFFSETFROM:-0500
TZOFFSETTO:-0600
TZNAME:CST
DTSTART:20271107T070000
END:STANDARD
END:VTIMEZONE
BEGIN:VEVENT
DTSTART;TZID=America/Chicago:20260627T080000
DTEND;TZID=America/Chicago:20260627T093000
DTSTAMP:20260423T083858
CREATED:20250801T161819Z
LAST-MODIFIED:20250801T161819Z
UID:10257456-1782547200-1782552600@villagecommunitychurch.net
SUMMARY:Men's Bible Study
DESCRIPTION:Join us as we study the book of Judges. All men are welcome.
URL:https://villagecommunitychurch.net/event/mens-bible-study/2026-06-27/
LOCATION:Village Community Church\, 662 Schelfhout Ln. Suite E\, Kimberly\, WI\, 54136\, United States
CATEGORIES:Bible Study,Men's Event
END:VEVENT
BEGIN:VEVENT
DTSTART;TZID=America/Chicago:20260628T093000
DTEND;TZID=America/Chicago:20260628T230000
DTSTAMP:20260423T083858
CREATED:20240507T212605Z
LAST-MODIFIED:20240507T212605Z
UID:10257043-1782639000-1782687600@villagecommunitychurch.net
SUMMARY:Worship Service
DESCRIPTION:We meet every Sunday morning at 9:30am for worship. Whether you want to dress up or come in jeans & T-shirt\, everyone is welcome. \nWe start off our service with a time of praise & music lead by our worship team. We then break for about 5-10 minutes for fellowship & refreshments. Then we come back for a heartfelt\, informative and educational message\, followed by a time of communion. The communion table is open to anyone who has professed a faith in Jesus Christ.
URL:https://villagecommunitychurch.net/event/worship-service/2026-06-28/
LOCATION:Village Community Church\, 662 Schelfhout Ln. Suite E\, Kimberly\, WI\, 54136\, United States
CATEGORIES:Worship Service
END:VEVENT
BEGIN:VEVENT
DTSTART;TZID=America/Chicago:20260630T183000
DTEND;TZID=America/Chicago:20260630T193000
DTSTAMP:20260423T083858
CREATED:20260107T192614Z
LAST-MODIFIED:20260107T192614Z
UID:10257968-1782844200-1782847800@villagecommunitychurch.net
SUMMARY:Adult Inductive Bible Study
DESCRIPTION:Join us as we deepen our understanding of how to study the Bible. All are welcome.
URL:https://villagecommunitychurch.net/event/adult-inductive-bible-study/2026-06-30/
LOCATION:Village Community Church\, 662 Schelfhout Ln. Suite E\, Kimberly\, WI\, 54136\, United States
CATEGORIES:Bible Study,Midweek Class/Gathering
END:VEVENT
BEGIN:VEVENT
DTSTART;TZID=America/Chicago:20260701T183000
DTEND;TZID=America/Chicago:20260701T200000
DTSTAMP:20260423T083858
CREATED:20260107T191954Z
LAST-MODIFIED:20260107T191954Z
UID:10257708-1782930600-1782936000@villagecommunitychurch.net
SUMMARY:Women's Wed night Bible Study
DESCRIPTION:All women are welcome to join us as we study Women of the Bible. We are currently in the Old Testament. The only book needed is a Bible!
URL:https://villagecommunitychurch.net/event/womens-wed-night-bible-study/2026-07-01/
LOCATION:Village Community Church\, 662 Schelfhout Ln. Suite E\, Kimberly\, WI\, 54136\, United States
CATEGORIES:Bible Study,Women's Event
END:VEVENT
BEGIN:VEVENT
DTSTART;TZID=America/Chicago:20260704T080000
DTEND;TZID=America/Chicago:20260704T093000
DTSTAMP:20260423T083858
CREATED:20250801T161819Z
LAST-MODIFIED:20250801T161819Z
UID:10257457-1783152000-1783157400@villagecommunitychurch.net
SUMMARY:Men's Bible Study
DESCRIPTION:Join us as we study the book of Judges. All men are welcome.
URL:https://villagecommunitychurch.net/event/mens-bible-study/2026-07-04/
LOCATION:Village Community Church\, 662 Schelfhout Ln. Suite E\, Kimberly\, WI\, 54136\, United States
CATEGORIES:Bible Study,Men's Event
END:VEVENT
BEGIN:VEVENT
DTSTART;TZID=America/Chicago:20260705T093000
DTEND;TZID=America/Chicago:20260705T230000
DTSTAMP:20260423T083858
CREATED:20240507T212605Z
LAST-MODIFIED:20240507T212605Z
UID:10257044-1783243800-1783292400@villagecommunitychurch.net
SUMMARY:Worship Service
DESCRIPTION:We meet every Sunday morning at 9:30am for worship. Whether you want to dress up or come in jeans & T-shirt\, everyone is welcome. \nWe start off our service with a time of praise & music lead by our worship team. We then break for about 5-10 minutes for fellowship & refreshments. Then we come back for a heartfelt\, informative and educational message\, followed by a time of communion. The communion table is open to anyone who has professed a faith in Jesus Christ.
URL:https://villagecommunitychurch.net/event/worship-service/2026-07-05/
LOCATION:Village Community Church\, 662 Schelfhout Ln. Suite E\, Kimberly\, WI\, 54136\, United States
CATEGORIES:Worship Service
END:VEVENT
BEGIN:VEVENT
DTSTART;TZID=America/Chicago:20260707T183000
DTEND;TZID=America/Chicago:20260707T193000
DTSTAMP:20260423T083858
CREATED:20260107T192614Z
LAST-MODIFIED:20260107T192614Z
UID:10257969-1783449000-1783452600@villagecommunitychurch.net
SUMMARY:Adult Inductive Bible Study
DESCRIPTION:Join us as we deepen our understanding of how to study the Bible. All are welcome.
URL:https://villagecommunitychurch.net/event/adult-inductive-bible-study/2026-07-07/
LOCATION:Village Community Church\, 662 Schelfhout Ln. Suite E\, Kimberly\, WI\, 54136\, United States
CATEGORIES:Bible Study,Midweek Class/Gathering
END:VEVENT
BEGIN:VEVENT
DTSTART;TZID=America/Chicago:20260708T183000
DTEND;TZID=America/Chicago:20260708T200000
DTSTAMP:20260423T083858
CREATED:20260107T191954Z
LAST-MODIFIED:20260107T191954Z
UID:10257709-1783535400-1783540800@villagecommunitychurch.net
SUMMARY:Women's Wed night Bible Study
DESCRIPTION:All women are welcome to join us as we study Women of the Bible. We are currently in the Old Testament. The only book needed is a Bible!
URL:https://villagecommunitychurch.net/event/womens-wed-night-bible-study/2026-07-08/
LOCATION:Village Community Church\, 662 Schelfhout Ln. Suite E\, Kimberly\, WI\, 54136\, United States
CATEGORIES:Bible Study,Women's Event
END:VEVENT
BEGIN:VEVENT
DTSTART;TZID=America/Chicago:20260711T080000
DTEND;TZID=America/Chicago:20260711T093000
DTSTAMP:20260423T083858
CREATED:20250801T161819Z
LAST-MODIFIED:20250801T161819Z
UID:10257458-1783756800-1783762200@villagecommunitychurch.net
SUMMARY:Men's Bible Study
DESCRIPTION:Join us as we study the book of Judges. All men are welcome.
URL:https://villagecommunitychurch.net/event/mens-bible-study/2026-07-11/
LOCATION:Village Community Church\, 662 Schelfhout Ln. Suite E\, Kimberly\, WI\, 54136\, United States
CATEGORIES:Bible Study,Men's Event
END:VEVENT
BEGIN:VEVENT
DTSTART;TZID=America/Chicago:20260712T093000
DTEND;TZID=America/Chicago:20260712T230000
DTSTAMP:20260423T083858
CREATED:20240507T212605Z
LAST-MODIFIED:20240507T212605Z
UID:10257045-1783848600-1783897200@villagecommunitychurch.net
SUMMARY:Worship Service
DESCRIPTION:We meet every Sunday morning at 9:30am for worship. Whether you want to dress up or come in jeans & T-shirt\, everyone is welcome. \nWe start off our service with a time of praise & music lead by our worship team. We then break for about 5-10 minutes for fellowship & refreshments. Then we come back for a heartfelt\, informative and educational message\, followed by a time of communion. The communion table is open to anyone who has professed a faith in Jesus Christ.
URL:https://villagecommunitychurch.net/event/worship-service/2026-07-12/
LOCATION:Village Community Church\, 662 Schelfhout Ln. Suite E\, Kimberly\, WI\, 54136\, United States
CATEGORIES:Worship Service
END:VEVENT
BEGIN:VEVENT
DTSTART;TZID=America/Chicago:20260714T183000
DTEND;TZID=America/Chicago:20260714T193000
DTSTAMP:20260423T083858
CREATED:20260107T192614Z
LAST-MODIFIED:20260107T192614Z
UID:10257970-1784053800-1784057400@villagecommunitychurch.net
SUMMARY:Adult Inductive Bible Study
DESCRIPTION:Join us as we deepen our understanding of how to study the Bible. All are welcome.
URL:https://villagecommunitychurch.net/event/adult-inductive-bible-study/2026-07-14/
LOCATION:Village Community Church\, 662 Schelfhout Ln. Suite E\, Kimberly\, WI\, 54136\, United States
CATEGORIES:Bible Study,Midweek Class/Gathering
END:VEVENT
BEGIN:VEVENT
DTSTART;TZID=America/Chicago:20260715T183000
DTEND;TZID=America/Chicago:20260715T200000
DTSTAMP:20260423T083858
CREATED:20260107T191954Z
LAST-MODIFIED:20260107T191954Z
UID:10257710-1784140200-1784145600@villagecommunitychurch.net
SUMMARY:Women's Wed night Bible Study
DESCRIPTION:All women are welcome to join us as we study Women of the Bible. We are currently in the Old Testament. The only book needed is a Bible!
URL:https://villagecommunitychurch.net/event/womens-wed-night-bible-study/2026-07-15/
LOCATION:Village Community Church\, 662 Schelfhout Ln. Suite E\, Kimberly\, WI\, 54136\, United States
CATEGORIES:Bible Study,Women's Event
END:VEVENT
BEGIN:VEVENT
DTSTART;TZID=America/Chicago:20260718T080000
DTEND;TZID=America/Chicago:20260718T093000
DTSTAMP:20260423T083858
CREATED:20250801T161819Z
LAST-MODIFIED:20250801T161819Z
UID:10257459-1784361600-1784367000@villagecommunitychurch.net
SUMMARY:Men's Bible Study
DESCRIPTION:Join us as we study the book of Judges. All men are welcome.
URL:https://villagecommunitychurch.net/event/mens-bible-study/2026-07-18/
LOCATION:Village Community Church\, 662 Schelfhout Ln. Suite E\, Kimberly\, WI\, 54136\, United States
CATEGORIES:Bible Study,Men's Event
END:VEVENT
BEGIN:VEVENT
DTSTART;TZID=America/Chicago:20260719T093000
DTEND;TZID=America/Chicago:20260719T230000
DTSTAMP:20260423T083858
CREATED:20240507T212605Z
LAST-MODIFIED:20240507T212605Z
UID:10257046-1784453400-1784502000@villagecommunitychurch.net
SUMMARY:Worship Service
DESCRIPTION:We meet every Sunday morning at 9:30am for worship. Whether you want to dress up or come in jeans & T-shirt\, everyone is welcome. \nWe start off our service with a time of praise & music lead by our worship team. We then break for about 5-10 minutes for fellowship & refreshments. Then we come back for a heartfelt\, informative and educational message\, followed by a time of communion. The communion table is open to anyone who has professed a faith in Jesus Christ.
URL:https://villagecommunitychurch.net/event/worship-service/2026-07-19/
LOCATION:Village Community Church\, 662 Schelfhout Ln. Suite E\, Kimberly\, WI\, 54136\, United States
CATEGORIES:Worship Service
END:VEVENT
BEGIN:VEVENT
DTSTART;TZID=America/Chicago:20260721T183000
DTEND;TZID=America/Chicago:20260721T193000
DTSTAMP:20260423T083858
CREATED:20260107T192614Z
LAST-MODIFIED:20260107T192614Z
UID:10257971-1784658600-1784662200@villagecommunitychurch.net
SUMMARY:Adult Inductive Bible Study
DESCRIPTION:Join us as we deepen our understanding of how to study the Bible. All are welcome.
URL:https://villagecommunitychurch.net/event/adult-inductive-bible-study/2026-07-21/
LOCATION:Village Community Church\, 662 Schelfhout Ln. Suite E\, Kimberly\, WI\, 54136\, United States
CATEGORIES:Bible Study,Midweek Class/Gathering
END:VEVENT
BEGIN:VEVENT
DTSTART;TZID=America/Chicago:20260722T183000
DTEND;TZID=America/Chicago:20260722T200000
DTSTAMP:20260423T083858
CREATED:20260107T191954Z
LAST-MODIFIED:20260107T191954Z
UID:10257711-1784745000-1784750400@villagecommunitychurch.net
SUMMARY:Women's Wed night Bible Study
DESCRIPTION:All women are welcome to join us as we study Women of the Bible. We are currently in the Old Testament. The only book needed is a Bible!
URL:https://villagecommunitychurch.net/event/womens-wed-night-bible-study/2026-07-22/
LOCATION:Village Community Church\, 662 Schelfhout Ln. Suite E\, Kimberly\, WI\, 54136\, United States
CATEGORIES:Bible Study,Women's Event
END:VEVENT
BEGIN:VEVENT
DTSTART;TZID=America/Chicago:20260725T080000
DTEND;TZID=America/Chicago:20260725T093000
DTSTAMP:20260423T083858
CREATED:20250801T161819Z
LAST-MODIFIED:20250801T161819Z
UID:10257460-1784966400-1784971800@villagecommunitychurch.net
SUMMARY:Men's Bible Study
DESCRIPTION:Join us as we study the book of Judges. All men are welcome.
URL:https://villagecommunitychurch.net/event/mens-bible-study/2026-07-25/
LOCATION:Village Community Church\, 662 Schelfhout Ln. Suite E\, Kimberly\, WI\, 54136\, United States
CATEGORIES:Bible Study,Men's Event
END:VEVENT
BEGIN:VEVENT
DTSTART;TZID=America/Chicago:20260726T093000
DTEND;TZID=America/Chicago:20260726T230000
DTSTAMP:20260423T083858
CREATED:20240507T212605Z
LAST-MODIFIED:20240507T212605Z
UID:10257047-1785058200-1785106800@villagecommunitychurch.net
SUMMARY:Worship Service
DESCRIPTION:We meet every Sunday morning at 9:30am for worship. Whether you want to dress up or come in jeans & T-shirt\, everyone is welcome. \nWe start off our service with a time of praise & music lead by our worship team. We then break for about 5-10 minutes for fellowship & refreshments. Then we come back for a heartfelt\, informative and educational message\, followed by a time of communion. The communion table is open to anyone who has professed a faith in Jesus Christ.
URL:https://villagecommunitychurch.net/event/worship-service/2026-07-26/
LOCATION:Village Community Church\, 662 Schelfhout Ln. Suite E\, Kimberly\, WI\, 54136\, United States
CATEGORIES:Worship Service
END:VEVENT
BEGIN:VEVENT
DTSTART;TZID=America/Chicago:20260728T183000
DTEND;TZID=America/Chicago:20260728T193000
DTSTAMP:20260423T083858
CREATED:20260107T192614Z
LAST-MODIFIED:20260107T192614Z
UID:10257972-1785263400-1785267000@villagecommunitychurch.net
SUMMARY:Adult Inductive Bible Study
DESCRIPTION:Join us as we deepen our understanding of how to study the Bible. All are welcome.
URL:https://villagecommunitychurch.net/event/adult-inductive-bible-study/2026-07-28/
LOCATION:Village Community Church\, 662 Schelfhout Ln. Suite E\, Kimberly\, WI\, 54136\, United States
CATEGORIES:Bible Study,Midweek Class/Gathering
END:VEVENT
BEGIN:VEVENT
DTSTART;TZID=America/Chicago:20260729T183000
DTEND;TZID=America/Chicago:20260729T200000
DTSTAMP:20260423T083859
CREATED:20260107T191954Z
LAST-MODIFIED:20260107T191954Z
UID:10257712-1785349800-1785355200@villagecommunitychurch.net
SUMMARY:Women's Wed night Bible Study
DESCRIPTION:All women are welcome to join us as we study Women of the Bible. We are currently in the Old Testament. The only book needed is a Bible!
URL:https://villagecommunitychurch.net/event/womens-wed-night-bible-study/2026-07-29/
LOCATION:Village Community Church\, 662 Schelfhout Ln. Suite E\, Kimberly\, WI\, 54136\, United States
CATEGORIES:Bible Study,Women's Event
END:VEVENT
BEGIN:VEVENT
DTSTART;TZID=America/Chicago:20260801T080000
DTEND;TZID=America/Chicago:20260801T093000
DTSTAMP:20260423T083859
CREATED:20250801T161819Z
LAST-MODIFIED:20250801T161819Z
UID:10257461-1785571200-1785576600@villagecommunitychurch.net
SUMMARY:Men's Bible Study
DESCRIPTION:Join us as we study the book of Judges. All men are welcome.
URL:https://villagecommunitychurch.net/event/mens-bible-study/2026-08-01/
LOCATION:Village Community Church\, 662 Schelfhout Ln. Suite E\, Kimberly\, WI\, 54136\, United States
CATEGORIES:Bible Study,Men's Event
END:VEVENT
BEGIN:VEVENT
DTSTART;TZID=America/Chicago:20260802T093000
DTEND;TZID=America/Chicago:20260802T230000
DTSTAMP:20260423T083859
CREATED:20240507T212605Z
LAST-MODIFIED:20240507T212605Z
UID:10257048-1785663000-1785711600@villagecommunitychurch.net
SUMMARY:Worship Service
DESCRIPTION:We meet every Sunday morning at 9:30am for worship. Whether you want to dress up or come in jeans & T-shirt\, everyone is welcome. \nWe start off our service with a time of praise & music lead by our worship team. We then break for about 5-10 minutes for fellowship & refreshments. Then we come back for a heartfelt\, informative and educational message\, followed by a time of communion. The communion table is open to anyone who has professed a faith in Jesus Christ.
URL:https://villagecommunitychurch.net/event/worship-service/2026-08-02/
LOCATION:Village Community Church\, 662 Schelfhout Ln. Suite E\, Kimberly\, WI\, 54136\, United States
CATEGORIES:Worship Service
END:VEVENT
BEGIN:VEVENT
DTSTART;TZID=America/Chicago:20260804T183000
DTEND;TZID=America/Chicago:20260804T193000
DTSTAMP:20260423T083859
CREATED:20260107T192614Z
LAST-MODIFIED:20260107T192614Z
UID:10257973-1785868200-1785871800@villagecommunitychurch.net
SUMMARY:Adult Inductive Bible Study
DESCRIPTION:Join us as we deepen our understanding of how to study the Bible. All are welcome.
URL:https://villagecommunitychurch.net/event/adult-inductive-bible-study/2026-08-04/
LOCATION:Village Community Church\, 662 Schelfhout Ln. Suite E\, Kimberly\, WI\, 54136\, United States
CATEGORIES:Bible Study,Midweek Class/Gathering
END:VEVENT
BEGIN:VEVENT
DTSTART;TZID=America/Chicago:20260805T183000
DTEND;TZID=America/Chicago:20260805T200000
DTSTAMP:20260423T083859
CREATED:20260107T191954Z
LAST-MODIFIED:20260107T191954Z
UID:10257713-1785954600-1785960000@villagecommunitychurch.net
SUMMARY:Women's Wed night Bible Study
DESCRIPTION:All women are welcome to join us as we study Women of the Bible. We are currently in the Old Testament. The only book needed is a Bible!
URL:https://villagecommunitychurch.net/event/womens-wed-night-bible-study/2026-08-05/
LOCATION:Village Community Church\, 662 Schelfhout Ln. Suite E\, Kimberly\, WI\, 54136\, United States
CATEGORIES:Bible Study,Women's Event
END:VEVENT
BEGIN:VEVENT
DTSTART;TZID=America/Chicago:20260808T080000
DTEND;TZID=America/Chicago:20260808T093000
DTSTAMP:20260423T083859
CREATED:20250801T161819Z
LAST-MODIFIED:20250801T161819Z
UID:10257462-1786176000-1786181400@villagecommunitychurch.net
SUMMARY:Men's Bible Study
DESCRIPTION:Join us as we study the book of Judges. All men are welcome.
URL:https://villagecommunitychurch.net/event/mens-bible-study/2026-08-08/
LOCATION:Village Community Church\, 662 Schelfhout Ln. Suite E\, Kimberly\, WI\, 54136\, United States
CATEGORIES:Bible Study,Men's Event
END:VEVENT
BEGIN:VEVENT
DTSTART;TZID=America/Chicago:20260809T093000
DTEND;TZID=America/Chicago:20260809T230000
DTSTAMP:20260423T083859
CREATED:20240507T212605Z
LAST-MODIFIED:20240507T212605Z
UID:10257049-1786267800-1786316400@villagecommunitychurch.net
SUMMARY:Worship Service
DESCRIPTION:We meet every Sunday morning at 9:30am for worship. Whether you want to dress up or come in jeans & T-shirt\, everyone is welcome. \nWe start off our service with a time of praise & music lead by our worship team. We then break for about 5-10 minutes for fellowship & refreshments. Then we come back for a heartfelt\, informative and educational message\, followed by a time of communion. The communion table is open to anyone who has professed a faith in Jesus Christ.
URL:https://villagecommunitychurch.net/event/worship-service/2026-08-09/
LOCATION:Village Community Church\, 662 Schelfhout Ln. Suite E\, Kimberly\, WI\, 54136\, United States
CATEGORIES:Worship Service
END:VEVENT
BEGIN:VEVENT
DTSTART;TZID=America/Chicago:20260811T183000
DTEND;TZID=America/Chicago:20260811T193000
DTSTAMP:20260423T083859
CREATED:20260107T192614Z
LAST-MODIFIED:20260107T192614Z
UID:10257974-1786473000-1786476600@villagecommunitychurch.net
SUMMARY:Adult Inductive Bible Study
DESCRIPTION:Join us as we deepen our understanding of how to study the Bible. All are welcome.
URL:https://villagecommunitychurch.net/event/adult-inductive-bible-study/2026-08-11/
LOCATION:Village Community Church\, 662 Schelfhout Ln. Suite E\, Kimberly\, WI\, 54136\, United States
CATEGORIES:Bible Study,Midweek Class/Gathering
END:VEVENT
BEGIN:VEVENT
DTSTART;TZID=America/Chicago:20260812T183000
DTEND;TZID=America/Chicago:20260812T200000
DTSTAMP:20260423T083859
CREATED:20260107T191954Z
LAST-MODIFIED:20260107T191954Z
UID:10257714-1786559400-1786564800@villagecommunitychurch.net
SUMMARY:Women's Wed night Bible Study
DESCRIPTION:All women are welcome to join us as we study Women of the Bible. We are currently in the Old Testament. The only book needed is a Bible!
URL:https://villagecommunitychurch.net/event/womens-wed-night-bible-study/2026-08-12/
LOCATION:Village Community Church\, 662 Schelfhout Ln. Suite E\, Kimberly\, WI\, 54136\, United States
CATEGORIES:Bible Study,Women's Event
END:VEVENT
BEGIN:VEVENT
DTSTART;TZID=America/Chicago:20260815T080000
DTEND;TZID=America/Chicago:20260815T093000
DTSTAMP:20260423T083859
CREATED:20250801T161819Z
LAST-MODIFIED:20250801T161819Z
UID:10257463-1786780800-1786786200@villagecommunitychurch.net
SUMMARY:Men's Bible Study
DESCRIPTION:Join us as we study the book of Judges. All men are welcome.
URL:https://villagecommunitychurch.net/event/mens-bible-study/2026-08-15/
LOCATION:Village Community Church\, 662 Schelfhout Ln. Suite E\, Kimberly\, WI\, 54136\, United States
CATEGORIES:Bible Study,Men's Event
END:VEVENT
BEGIN:VEVENT
DTSTART;TZID=America/Chicago:20260816T093000
DTEND;TZID=America/Chicago:20260816T230000
DTSTAMP:20260423T083859
CREATED:20240507T212605Z
LAST-MODIFIED:20240507T212605Z
UID:10257050-1786872600-1786921200@villagecommunitychurch.net
SUMMARY:Worship Service
DESCRIPTION:We meet every Sunday morning at 9:30am for worship. Whether you want to dress up or come in jeans & T-shirt\, everyone is welcome. \nWe start off our service with a time of praise & music lead by our worship team. We then break for about 5-10 minutes for fellowship & refreshments. Then we come back for a heartfelt\, informative and educational message\, followed by a time of communion. The communion table is open to anyone who has professed a faith in Jesus Christ.
URL:https://villagecommunitychurch.net/event/worship-service/2026-08-16/
LOCATION:Village Community Church\, 662 Schelfhout Ln. Suite E\, Kimberly\, WI\, 54136\, United States
CATEGORIES:Worship Service
END:VEVENT
END:VCALENDAR