BEGIN:VCALENDAR
VERSION:2.0
PRODID:-//Village Community Church, Kimberly, WI - ECPv6.15.20//NONSGML v1.0//EN
CALSCALE:GREGORIAN
METHOD:PUBLISH
X-WR-CALNAME:Village Community Church, Kimberly, WI
X-ORIGINAL-URL:https://villagecommunitychurch.net
X-WR-CALDESC:Events for Village Community Church, Kimberly, WI
REFRESH-INTERVAL;VALUE=DURATION:PT1H
X-Robots-Tag:noindex
X-PUBLISHED-TTL:PT1H
BEGIN:VTIMEZONE
TZID:America/Chicago
BEGIN:DAYLIGHT
TZOFFSETFROM:-0600
TZOFFSETTO:-0500
TZNAME:CDT
DTSTART:20260308T080000
END:DAYLIGHT
BEGIN:STANDARD
TZOFFSETFROM:-0500
TZOFFSETTO:-0600
TZNAME:CST
DTSTART:20261101T070000
END:STANDARD
BEGIN:DAYLIGHT
TZOFFSETFROM:-0600
TZOFFSETTO:-0500
TZNAME:CDT
DTSTART:20270314T080000
END:DAYLIGHT
BEGIN:STANDARD
TZOFFSETFROM:-0500
TZOFFSETTO:-0600
TZNAME:CST
DTSTART:20271107T070000
END:STANDARD
BEGIN:DAYLIGHT
TZOFFSETFROM:-0600
TZOFFSETTO:-0500
TZNAME:CDT
DTSTART:20280312T080000
END:DAYLIGHT
BEGIN:STANDARD
TZOFFSETFROM:-0500
TZOFFSETTO:-0600
TZNAME:CST
DTSTART:20281105T070000
END:STANDARD
BEGIN:DAYLIGHT
TZOFFSETFROM:-0600
TZOFFSETTO:-0500
TZNAME:CDT
DTSTART:20290311T080000
END:DAYLIGHT
BEGIN:STANDARD
TZOFFSETFROM:-0500
TZOFFSETTO:-0600
TZNAME:CST
DTSTART:20291104T070000
END:STANDARD
END:VTIMEZONE
BEGIN:VEVENT
DTSTART;TZID=America/Chicago:20271120T080000
DTEND;TZID=America/Chicago:20271120T093000
DTSTAMP:20260424T122957
CREATED:20250801T161819Z
LAST-MODIFIED:20250801T161819Z
UID:10257529-1826697600-1826703000@villagecommunitychurch.net
SUMMARY:Men's Bible Study
DESCRIPTION:Join us as we study the book of Judges. All men are welcome.
URL:https://villagecommunitychurch.net/event/mens-bible-study/2027-11-20/
LOCATION:Village Community Church\, 662 Schelfhout Ln. Suite E\, Kimberly\, WI\, 54136\, United States
CATEGORIES:Bible Study,Men's Event
END:VEVENT
BEGIN:VEVENT
DTSTART;TZID=America/Chicago:20271124T183000
DTEND;TZID=America/Chicago:20271124T200000
DTSTAMP:20260424T122957
CREATED:20260107T191954Z
LAST-MODIFIED:20260107T191954Z
UID:10257781-1827081000-1827086400@villagecommunitychurch.net
SUMMARY:Women's Wed night Bible Study
DESCRIPTION:All women are welcome to join us as we study Women of the Bible. We are currently in the Old Testament. The only book needed is a Bible!
URL:https://villagecommunitychurch.net/event/womens-wed-night-bible-study/2027-11-24/
LOCATION:Village Community Church\, 662 Schelfhout Ln. Suite E\, Kimberly\, WI\, 54136\, United States
CATEGORIES:Bible Study,Women's Event
END:VEVENT
BEGIN:VEVENT
DTSTART;TZID=America/Chicago:20271127T080000
DTEND;TZID=America/Chicago:20271127T093000
DTSTAMP:20260424T122957
CREATED:20250801T161819Z
LAST-MODIFIED:20250801T161819Z
UID:10257530-1827302400-1827307800@villagecommunitychurch.net
SUMMARY:Men's Bible Study
DESCRIPTION:Join us as we study the book of Judges. All men are welcome.
URL:https://villagecommunitychurch.net/event/mens-bible-study/2027-11-27/
LOCATION:Village Community Church\, 662 Schelfhout Ln. Suite E\, Kimberly\, WI\, 54136\, United States
CATEGORIES:Bible Study,Men's Event
END:VEVENT
BEGIN:VEVENT
DTSTART;TZID=America/Chicago:20271201T183000
DTEND;TZID=America/Chicago:20271201T200000
DTSTAMP:20260424T122957
CREATED:20260107T191954Z
LAST-MODIFIED:20260107T191954Z
UID:10257782-1827685800-1827691200@villagecommunitychurch.net
SUMMARY:Women's Wed night Bible Study
DESCRIPTION:All women are welcome to join us as we study Women of the Bible. We are currently in the Old Testament. The only book needed is a Bible!
URL:https://villagecommunitychurch.net/event/womens-wed-night-bible-study/2027-12-01/
LOCATION:Village Community Church\, 662 Schelfhout Ln. Suite E\, Kimberly\, WI\, 54136\, United States
CATEGORIES:Bible Study,Women's Event
END:VEVENT
BEGIN:VEVENT
DTSTART;TZID=America/Chicago:20271204T080000
DTEND;TZID=America/Chicago:20271204T093000
DTSTAMP:20260424T122957
CREATED:20250801T161819Z
LAST-MODIFIED:20250801T161819Z
UID:10257531-1827907200-1827912600@villagecommunitychurch.net
SUMMARY:Men's Bible Study
DESCRIPTION:Join us as we study the book of Judges. All men are welcome.
URL:https://villagecommunitychurch.net/event/mens-bible-study/2027-12-04/
LOCATION:Village Community Church\, 662 Schelfhout Ln. Suite E\, Kimberly\, WI\, 54136\, United States
CATEGORIES:Bible Study,Men's Event
END:VEVENT
BEGIN:VEVENT
DTSTART;TZID=America/Chicago:20271208T183000
DTEND;TZID=America/Chicago:20271208T200000
DTSTAMP:20260424T122957
CREATED:20260107T191954Z
LAST-MODIFIED:20260107T191954Z
UID:10257783-1828290600-1828296000@villagecommunitychurch.net
SUMMARY:Women's Wed night Bible Study
DESCRIPTION:All women are welcome to join us as we study Women of the Bible. We are currently in the Old Testament. The only book needed is a Bible!
URL:https://villagecommunitychurch.net/event/womens-wed-night-bible-study/2027-12-08/
LOCATION:Village Community Church\, 662 Schelfhout Ln. Suite E\, Kimberly\, WI\, 54136\, United States
CATEGORIES:Bible Study,Women's Event
END:VEVENT
BEGIN:VEVENT
DTSTART;TZID=America/Chicago:20271211T080000
DTEND;TZID=America/Chicago:20271211T093000
DTSTAMP:20260424T122957
CREATED:20250801T161819Z
LAST-MODIFIED:20250801T161819Z
UID:10257532-1828512000-1828517400@villagecommunitychurch.net
SUMMARY:Men's Bible Study
DESCRIPTION:Join us as we study the book of Judges. All men are welcome.
URL:https://villagecommunitychurch.net/event/mens-bible-study/2027-12-11/
LOCATION:Village Community Church\, 662 Schelfhout Ln. Suite E\, Kimberly\, WI\, 54136\, United States
CATEGORIES:Bible Study,Men's Event
END:VEVENT
BEGIN:VEVENT
DTSTART;TZID=America/Chicago:20271215T183000
DTEND;TZID=America/Chicago:20271215T200000
DTSTAMP:20260424T122957
CREATED:20260107T191954Z
LAST-MODIFIED:20260107T191954Z
UID:10257784-1828895400-1828900800@villagecommunitychurch.net
SUMMARY:Women's Wed night Bible Study
DESCRIPTION:All women are welcome to join us as we study Women of the Bible. We are currently in the Old Testament. The only book needed is a Bible!
URL:https://villagecommunitychurch.net/event/womens-wed-night-bible-study/2027-12-15/
LOCATION:Village Community Church\, 662 Schelfhout Ln. Suite E\, Kimberly\, WI\, 54136\, United States
CATEGORIES:Bible Study,Women's Event
END:VEVENT
BEGIN:VEVENT
DTSTART;TZID=America/Chicago:20271218T080000
DTEND;TZID=America/Chicago:20271218T093000
DTSTAMP:20260424T122957
CREATED:20250801T161819Z
LAST-MODIFIED:20250801T161819Z
UID:10257533-1829116800-1829122200@villagecommunitychurch.net
SUMMARY:Men's Bible Study
DESCRIPTION:Join us as we study the book of Judges. All men are welcome.
URL:https://villagecommunitychurch.net/event/mens-bible-study/2027-12-18/
LOCATION:Village Community Church\, 662 Schelfhout Ln. Suite E\, Kimberly\, WI\, 54136\, United States
CATEGORIES:Bible Study,Men's Event
END:VEVENT
BEGIN:VEVENT
DTSTART;TZID=America/Chicago:20271222T183000
DTEND;TZID=America/Chicago:20271222T200000
DTSTAMP:20260424T122957
CREATED:20260107T191954Z
LAST-MODIFIED:20260107T191954Z
UID:10257785-1829500200-1829505600@villagecommunitychurch.net
SUMMARY:Women's Wed night Bible Study
DESCRIPTION:All women are welcome to join us as we study Women of the Bible. We are currently in the Old Testament. The only book needed is a Bible!
URL:https://villagecommunitychurch.net/event/womens-wed-night-bible-study/2027-12-22/
LOCATION:Village Community Church\, 662 Schelfhout Ln. Suite E\, Kimberly\, WI\, 54136\, United States
CATEGORIES:Bible Study,Women's Event
END:VEVENT
BEGIN:VEVENT
DTSTART;TZID=America/Chicago:20271225T080000
DTEND;TZID=America/Chicago:20271225T093000
DTSTAMP:20260424T122957
CREATED:20250801T161819Z
LAST-MODIFIED:20250801T161819Z
UID:10257534-1829721600-1829727000@villagecommunitychurch.net
SUMMARY:Men's Bible Study
DESCRIPTION:Join us as we study the book of Judges. All men are welcome.
URL:https://villagecommunitychurch.net/event/mens-bible-study/2027-12-25/
LOCATION:Village Community Church\, 662 Schelfhout Ln. Suite E\, Kimberly\, WI\, 54136\, United States
CATEGORIES:Bible Study,Men's Event
END:VEVENT
BEGIN:VEVENT
DTSTART;TZID=America/Chicago:20271229T183000
DTEND;TZID=America/Chicago:20271229T200000
DTSTAMP:20260424T122957
CREATED:20260107T191954Z
LAST-MODIFIED:20260107T191954Z
UID:10257786-1830105000-1830110400@villagecommunitychurch.net
SUMMARY:Women's Wed night Bible Study
DESCRIPTION:All women are welcome to join us as we study Women of the Bible. We are currently in the Old Testament. The only book needed is a Bible!
URL:https://villagecommunitychurch.net/event/womens-wed-night-bible-study/2027-12-29/
LOCATION:Village Community Church\, 662 Schelfhout Ln. Suite E\, Kimberly\, WI\, 54136\, United States
CATEGORIES:Bible Study,Women's Event
END:VEVENT
BEGIN:VEVENT
DTSTART;TZID=America/Chicago:20280101T080000
DTEND;TZID=America/Chicago:20280101T093000
DTSTAMP:20260424T122957
CREATED:20250801T161819Z
LAST-MODIFIED:20250801T161819Z
UID:10257535-1830326400-1830331800@villagecommunitychurch.net
SUMMARY:Men's Bible Study
DESCRIPTION:Join us as we study the book of Judges. All men are welcome.
URL:https://villagecommunitychurch.net/event/mens-bible-study/2028-01-01/
LOCATION:Village Community Church\, 662 Schelfhout Ln. Suite E\, Kimberly\, WI\, 54136\, United States
CATEGORIES:Bible Study,Men's Event
END:VEVENT
BEGIN:VEVENT
DTSTART;TZID=America/Chicago:20280105T183000
DTEND;TZID=America/Chicago:20280105T200000
DTSTAMP:20260424T122957
CREATED:20260107T191954Z
LAST-MODIFIED:20260107T191954Z
UID:10257787-1830709800-1830715200@villagecommunitychurch.net
SUMMARY:Women's Wed night Bible Study
DESCRIPTION:All women are welcome to join us as we study Women of the Bible. We are currently in the Old Testament. The only book needed is a Bible!
URL:https://villagecommunitychurch.net/event/womens-wed-night-bible-study/2028-01-05/
LOCATION:Village Community Church\, 662 Schelfhout Ln. Suite E\, Kimberly\, WI\, 54136\, United States
CATEGORIES:Bible Study,Women's Event
END:VEVENT
BEGIN:VEVENT
DTSTART;TZID=America/Chicago:20280108T080000
DTEND;TZID=America/Chicago:20280108T093000
DTSTAMP:20260424T122957
CREATED:20250801T161819Z
LAST-MODIFIED:20250801T161819Z
UID:10257536-1830931200-1830936600@villagecommunitychurch.net
SUMMARY:Men's Bible Study
DESCRIPTION:Join us as we study the book of Judges. All men are welcome.
URL:https://villagecommunitychurch.net/event/mens-bible-study/2028-01-08/
LOCATION:Village Community Church\, 662 Schelfhout Ln. Suite E\, Kimberly\, WI\, 54136\, United States
CATEGORIES:Bible Study,Men's Event
END:VEVENT
BEGIN:VEVENT
DTSTART;TZID=America/Chicago:20280112T183000
DTEND;TZID=America/Chicago:20280112T200000
DTSTAMP:20260424T122957
CREATED:20260107T191954Z
LAST-MODIFIED:20260107T191954Z
UID:10257788-1831314600-1831320000@villagecommunitychurch.net
SUMMARY:Women's Wed night Bible Study
DESCRIPTION:All women are welcome to join us as we study Women of the Bible. We are currently in the Old Testament. The only book needed is a Bible!
URL:https://villagecommunitychurch.net/event/womens-wed-night-bible-study/2028-01-12/
LOCATION:Village Community Church\, 662 Schelfhout Ln. Suite E\, Kimberly\, WI\, 54136\, United States
CATEGORIES:Bible Study,Women's Event
END:VEVENT
BEGIN:VEVENT
DTSTART;TZID=America/Chicago:20280115T080000
DTEND;TZID=America/Chicago:20280115T093000
DTSTAMP:20260424T122957
CREATED:20250801T161819Z
LAST-MODIFIED:20250801T161819Z
UID:10257537-1831536000-1831541400@villagecommunitychurch.net
SUMMARY:Men's Bible Study
DESCRIPTION:Join us as we study the book of Judges. All men are welcome.
URL:https://villagecommunitychurch.net/event/mens-bible-study/2028-01-15/
LOCATION:Village Community Church\, 662 Schelfhout Ln. Suite E\, Kimberly\, WI\, 54136\, United States
CATEGORIES:Bible Study,Men's Event
END:VEVENT
BEGIN:VEVENT
DTSTART;TZID=America/Chicago:20280119T183000
DTEND;TZID=America/Chicago:20280119T200000
DTSTAMP:20260424T122957
CREATED:20260107T191954Z
LAST-MODIFIED:20260107T191954Z
UID:10257789-1831919400-1831924800@villagecommunitychurch.net
SUMMARY:Women's Wed night Bible Study
DESCRIPTION:All women are welcome to join us as we study Women of the Bible. We are currently in the Old Testament. The only book needed is a Bible!
URL:https://villagecommunitychurch.net/event/womens-wed-night-bible-study/2028-01-19/
LOCATION:Village Community Church\, 662 Schelfhout Ln. Suite E\, Kimberly\, WI\, 54136\, United States
CATEGORIES:Bible Study,Women's Event
END:VEVENT
BEGIN:VEVENT
DTSTART;TZID=America/Chicago:20280122T080000
DTEND;TZID=America/Chicago:20280122T093000
DTSTAMP:20260424T122957
CREATED:20250801T161819Z
LAST-MODIFIED:20250801T161819Z
UID:10257538-1832140800-1832146200@villagecommunitychurch.net
SUMMARY:Men's Bible Study
DESCRIPTION:Join us as we study the book of Judges. All men are welcome.
URL:https://villagecommunitychurch.net/event/mens-bible-study/2028-01-22/
LOCATION:Village Community Church\, 662 Schelfhout Ln. Suite E\, Kimberly\, WI\, 54136\, United States
CATEGORIES:Bible Study,Men's Event
END:VEVENT
BEGIN:VEVENT
DTSTART;TZID=America/Chicago:20280126T183000
DTEND;TZID=America/Chicago:20280126T200000
DTSTAMP:20260424T122957
CREATED:20260107T191954Z
LAST-MODIFIED:20260107T191954Z
UID:10257790-1832524200-1832529600@villagecommunitychurch.net
SUMMARY:Women's Wed night Bible Study
DESCRIPTION:All women are welcome to join us as we study Women of the Bible. We are currently in the Old Testament. The only book needed is a Bible!
URL:https://villagecommunitychurch.net/event/womens-wed-night-bible-study/2028-01-26/
LOCATION:Village Community Church\, 662 Schelfhout Ln. Suite E\, Kimberly\, WI\, 54136\, United States
CATEGORIES:Bible Study,Women's Event
END:VEVENT
BEGIN:VEVENT
DTSTART;TZID=America/Chicago:20280129T080000
DTEND;TZID=America/Chicago:20280129T093000
DTSTAMP:20260424T122957
CREATED:20250801T161819Z
LAST-MODIFIED:20250801T161819Z
UID:10257539-1832745600-1832751000@villagecommunitychurch.net
SUMMARY:Men's Bible Study
DESCRIPTION:Join us as we study the book of Judges. All men are welcome.
URL:https://villagecommunitychurch.net/event/mens-bible-study/2028-01-29/
LOCATION:Village Community Church\, 662 Schelfhout Ln. Suite E\, Kimberly\, WI\, 54136\, United States
CATEGORIES:Bible Study,Men's Event
END:VEVENT
BEGIN:VEVENT
DTSTART;TZID=America/Chicago:20280202T183000
DTEND;TZID=America/Chicago:20280202T200000
DTSTAMP:20260424T122957
CREATED:20260107T191954Z
LAST-MODIFIED:20260107T191954Z
UID:10257791-1833129000-1833134400@villagecommunitychurch.net
SUMMARY:Women's Wed night Bible Study
DESCRIPTION:All women are welcome to join us as we study Women of the Bible. We are currently in the Old Testament. The only book needed is a Bible!
URL:https://villagecommunitychurch.net/event/womens-wed-night-bible-study/2028-02-02/
LOCATION:Village Community Church\, 662 Schelfhout Ln. Suite E\, Kimberly\, WI\, 54136\, United States
CATEGORIES:Bible Study,Women's Event
END:VEVENT
BEGIN:VEVENT
DTSTART;TZID=America/Chicago:20280205T080000
DTEND;TZID=America/Chicago:20280205T093000
DTSTAMP:20260424T122957
CREATED:20250801T161819Z
LAST-MODIFIED:20250801T161819Z
UID:10257540-1833350400-1833355800@villagecommunitychurch.net
SUMMARY:Men's Bible Study
DESCRIPTION:Join us as we study the book of Judges. All men are welcome.
URL:https://villagecommunitychurch.net/event/mens-bible-study/2028-02-05/
LOCATION:Village Community Church\, 662 Schelfhout Ln. Suite E\, Kimberly\, WI\, 54136\, United States
CATEGORIES:Bible Study,Men's Event
END:VEVENT
BEGIN:VEVENT
DTSTART;TZID=America/Chicago:20280209T183000
DTEND;TZID=America/Chicago:20280209T200000
DTSTAMP:20260424T122957
CREATED:20260107T191954Z
LAST-MODIFIED:20260107T191954Z
UID:10257792-1833733800-1833739200@villagecommunitychurch.net
SUMMARY:Women's Wed night Bible Study
DESCRIPTION:All women are welcome to join us as we study Women of the Bible. We are currently in the Old Testament. The only book needed is a Bible!
URL:https://villagecommunitychurch.net/event/womens-wed-night-bible-study/2028-02-09/
LOCATION:Village Community Church\, 662 Schelfhout Ln. Suite E\, Kimberly\, WI\, 54136\, United States
CATEGORIES:Bible Study,Women's Event
END:VEVENT
BEGIN:VEVENT
DTSTART;TZID=America/Chicago:20280212T080000
DTEND;TZID=America/Chicago:20280212T093000
DTSTAMP:20260424T122957
CREATED:20250801T161819Z
LAST-MODIFIED:20250801T161819Z
UID:10257541-1833955200-1833960600@villagecommunitychurch.net
SUMMARY:Men's Bible Study
DESCRIPTION:Join us as we study the book of Judges. All men are welcome.
URL:https://villagecommunitychurch.net/event/mens-bible-study/2028-02-12/
LOCATION:Village Community Church\, 662 Schelfhout Ln. Suite E\, Kimberly\, WI\, 54136\, United States
CATEGORIES:Bible Study,Men's Event
END:VEVENT
BEGIN:VEVENT
DTSTART;TZID=America/Chicago:20280216T183000
DTEND;TZID=America/Chicago:20280216T200000
DTSTAMP:20260424T122957
CREATED:20260107T191954Z
LAST-MODIFIED:20260107T191954Z
UID:10257793-1834338600-1834344000@villagecommunitychurch.net
SUMMARY:Women's Wed night Bible Study
DESCRIPTION:All women are welcome to join us as we study Women of the Bible. We are currently in the Old Testament. The only book needed is a Bible!
URL:https://villagecommunitychurch.net/event/womens-wed-night-bible-study/2028-02-16/
LOCATION:Village Community Church\, 662 Schelfhout Ln. Suite E\, Kimberly\, WI\, 54136\, United States
CATEGORIES:Bible Study,Women's Event
END:VEVENT
BEGIN:VEVENT
DTSTART;TZID=America/Chicago:20280219T080000
DTEND;TZID=America/Chicago:20280219T093000
DTSTAMP:20260424T122957
CREATED:20250801T161819Z
LAST-MODIFIED:20250801T161819Z
UID:10257542-1834560000-1834565400@villagecommunitychurch.net
SUMMARY:Men's Bible Study
DESCRIPTION:Join us as we study the book of Judges. All men are welcome.
URL:https://villagecommunitychurch.net/event/mens-bible-study/2028-02-19/
LOCATION:Village Community Church\, 662 Schelfhout Ln. Suite E\, Kimberly\, WI\, 54136\, United States
CATEGORIES:Bible Study,Men's Event
END:VEVENT
BEGIN:VEVENT
DTSTART;TZID=America/Chicago:20280223T183000
DTEND;TZID=America/Chicago:20280223T200000
DTSTAMP:20260424T122957
CREATED:20260107T191954Z
LAST-MODIFIED:20260107T191954Z
UID:10257794-1834943400-1834948800@villagecommunitychurch.net
SUMMARY:Women's Wed night Bible Study
DESCRIPTION:All women are welcome to join us as we study Women of the Bible. We are currently in the Old Testament. The only book needed is a Bible!
URL:https://villagecommunitychurch.net/event/womens-wed-night-bible-study/2028-02-23/
LOCATION:Village Community Church\, 662 Schelfhout Ln. Suite E\, Kimberly\, WI\, 54136\, United States
CATEGORIES:Bible Study,Women's Event
END:VEVENT
BEGIN:VEVENT
DTSTART;TZID=America/Chicago:20280226T080000
DTEND;TZID=America/Chicago:20280226T093000
DTSTAMP:20260424T122957
CREATED:20250801T161819Z
LAST-MODIFIED:20250801T161819Z
UID:10257543-1835164800-1835170200@villagecommunitychurch.net
SUMMARY:Men's Bible Study
DESCRIPTION:Join us as we study the book of Judges. All men are welcome.
URL:https://villagecommunitychurch.net/event/mens-bible-study/2028-02-26/
LOCATION:Village Community Church\, 662 Schelfhout Ln. Suite E\, Kimberly\, WI\, 54136\, United States
CATEGORIES:Bible Study,Men's Event
END:VEVENT
BEGIN:VEVENT
DTSTART;TZID=America/Chicago:20280301T183000
DTEND;TZID=America/Chicago:20280301T200000
DTSTAMP:20260424T122957
CREATED:20260107T191954Z
LAST-MODIFIED:20260107T191954Z
UID:10257795-1835548200-1835553600@villagecommunitychurch.net
SUMMARY:Women's Wed night Bible Study
DESCRIPTION:All women are welcome to join us as we study Women of the Bible. We are currently in the Old Testament. The only book needed is a Bible!
URL:https://villagecommunitychurch.net/event/womens-wed-night-bible-study/2028-03-01/
LOCATION:Village Community Church\, 662 Schelfhout Ln. Suite E\, Kimberly\, WI\, 54136\, United States
CATEGORIES:Bible Study,Women's Event
END:VEVENT
END:VCALENDAR