BEGIN:VCALENDAR
VERSION:2.0
PRODID:-//Village Community Church, Kimberly, WI - ECPv6.15.20//NONSGML v1.0//EN
CALSCALE:GREGORIAN
METHOD:PUBLISH
X-WR-CALNAME:Village Community Church, Kimberly, WI
X-ORIGINAL-URL:https://villagecommunitychurch.net
X-WR-CALDESC:Events for Village Community Church, Kimberly, WI
REFRESH-INTERVAL;VALUE=DURATION:PT1H
X-Robots-Tag:noindex
X-PUBLISHED-TTL:PT1H
BEGIN:VTIMEZONE
TZID:America/Chicago
BEGIN:DAYLIGHT
TZOFFSETFROM:-0600
TZOFFSETTO:-0500
TZNAME:CDT
DTSTART:20260308T080000
END:DAYLIGHT
BEGIN:STANDARD
TZOFFSETFROM:-0500
TZOFFSETTO:-0600
TZNAME:CST
DTSTART:20261101T070000
END:STANDARD
BEGIN:DAYLIGHT
TZOFFSETFROM:-0600
TZOFFSETTO:-0500
TZNAME:CDT
DTSTART:20270314T080000
END:DAYLIGHT
BEGIN:STANDARD
TZOFFSETFROM:-0500
TZOFFSETTO:-0600
TZNAME:CST
DTSTART:20271107T070000
END:STANDARD
BEGIN:DAYLIGHT
TZOFFSETFROM:-0600
TZOFFSETTO:-0500
TZNAME:CDT
DTSTART:20280312T080000
END:DAYLIGHT
BEGIN:STANDARD
TZOFFSETFROM:-0500
TZOFFSETTO:-0600
TZNAME:CST
DTSTART:20281105T070000
END:STANDARD
END:VTIMEZONE
BEGIN:VEVENT
DTSTART;TZID=America/Chicago:20270227T080000
DTEND;TZID=America/Chicago:20270227T093000
DTSTAMP:20260423T235558
CREATED:20250801T161819Z
LAST-MODIFIED:20250801T161819Z
UID:10257491-1803715200-1803720600@villagecommunitychurch.net
SUMMARY:Men's Bible Study
DESCRIPTION:Join us as we study the book of Judges. All men are welcome.
URL:https://villagecommunitychurch.net/event/mens-bible-study/2027-02-27/
LOCATION:Village Community Church\, 662 Schelfhout Ln. Suite E\, Kimberly\, WI\, 54136\, United States
CATEGORIES:Bible Study,Men's Event
END:VEVENT
BEGIN:VEVENT
DTSTART;TZID=America/Chicago:20270302T183000
DTEND;TZID=America/Chicago:20270302T193000
DTSTAMP:20260423T235558
CREATED:20260107T192614Z
LAST-MODIFIED:20260107T192614Z
UID:10258003-1804012200-1804015800@villagecommunitychurch.net
SUMMARY:Adult Inductive Bible Study
DESCRIPTION:Join us as we deepen our understanding of how to study the Bible. All are welcome.
URL:https://villagecommunitychurch.net/event/adult-inductive-bible-study/2027-03-02/
LOCATION:Village Community Church\, 662 Schelfhout Ln. Suite E\, Kimberly\, WI\, 54136\, United States
CATEGORIES:Bible Study,Midweek Class/Gathering
END:VEVENT
BEGIN:VEVENT
DTSTART;TZID=America/Chicago:20270303T183000
DTEND;TZID=America/Chicago:20270303T200000
DTSTAMP:20260423T235558
CREATED:20260107T191954Z
LAST-MODIFIED:20260107T191954Z
UID:10257743-1804098600-1804104000@villagecommunitychurch.net
SUMMARY:Women's Wed night Bible Study
DESCRIPTION:All women are welcome to join us as we study Women of the Bible. We are currently in the Old Testament. The only book needed is a Bible!
URL:https://villagecommunitychurch.net/event/womens-wed-night-bible-study/2027-03-03/
LOCATION:Village Community Church\, 662 Schelfhout Ln. Suite E\, Kimberly\, WI\, 54136\, United States
CATEGORIES:Bible Study,Women's Event
END:VEVENT
BEGIN:VEVENT
DTSTART;TZID=America/Chicago:20270306T080000
DTEND;TZID=America/Chicago:20270306T093000
DTSTAMP:20260423T235558
CREATED:20250801T161819Z
LAST-MODIFIED:20250801T161819Z
UID:10257492-1804320000-1804325400@villagecommunitychurch.net
SUMMARY:Men's Bible Study
DESCRIPTION:Join us as we study the book of Judges. All men are welcome.
URL:https://villagecommunitychurch.net/event/mens-bible-study/2027-03-06/
LOCATION:Village Community Church\, 662 Schelfhout Ln. Suite E\, Kimberly\, WI\, 54136\, United States
CATEGORIES:Bible Study,Men's Event
END:VEVENT
BEGIN:VEVENT
DTSTART;TZID=America/Chicago:20270309T183000
DTEND;TZID=America/Chicago:20270309T193000
DTSTAMP:20260423T235558
CREATED:20260107T192614Z
LAST-MODIFIED:20260107T192614Z
UID:10258004-1804617000-1804620600@villagecommunitychurch.net
SUMMARY:Adult Inductive Bible Study
DESCRIPTION:Join us as we deepen our understanding of how to study the Bible. All are welcome.
URL:https://villagecommunitychurch.net/event/adult-inductive-bible-study/2027-03-09/
LOCATION:Village Community Church\, 662 Schelfhout Ln. Suite E\, Kimberly\, WI\, 54136\, United States
CATEGORIES:Bible Study,Midweek Class/Gathering
END:VEVENT
BEGIN:VEVENT
DTSTART;TZID=America/Chicago:20270310T183000
DTEND;TZID=America/Chicago:20270310T200000
DTSTAMP:20260423T235558
CREATED:20260107T191954Z
LAST-MODIFIED:20260107T191954Z
UID:10257744-1804703400-1804708800@villagecommunitychurch.net
SUMMARY:Women's Wed night Bible Study
DESCRIPTION:All women are welcome to join us as we study Women of the Bible. We are currently in the Old Testament. The only book needed is a Bible!
URL:https://villagecommunitychurch.net/event/womens-wed-night-bible-study/2027-03-10/
LOCATION:Village Community Church\, 662 Schelfhout Ln. Suite E\, Kimberly\, WI\, 54136\, United States
CATEGORIES:Bible Study,Women's Event
END:VEVENT
BEGIN:VEVENT
DTSTART;TZID=America/Chicago:20270313T080000
DTEND;TZID=America/Chicago:20270313T093000
DTSTAMP:20260423T235558
CREATED:20250801T161819Z
LAST-MODIFIED:20250801T161819Z
UID:10257493-1804924800-1804930200@villagecommunitychurch.net
SUMMARY:Men's Bible Study
DESCRIPTION:Join us as we study the book of Judges. All men are welcome.
URL:https://villagecommunitychurch.net/event/mens-bible-study/2027-03-13/
LOCATION:Village Community Church\, 662 Schelfhout Ln. Suite E\, Kimberly\, WI\, 54136\, United States
CATEGORIES:Bible Study,Men's Event
END:VEVENT
BEGIN:VEVENT
DTSTART;TZID=America/Chicago:20270316T183000
DTEND;TZID=America/Chicago:20270316T193000
DTSTAMP:20260423T235558
CREATED:20260107T192614Z
LAST-MODIFIED:20260107T192614Z
UID:10258005-1805221800-1805225400@villagecommunitychurch.net
SUMMARY:Adult Inductive Bible Study
DESCRIPTION:Join us as we deepen our understanding of how to study the Bible. All are welcome.
URL:https://villagecommunitychurch.net/event/adult-inductive-bible-study/2027-03-16/
LOCATION:Village Community Church\, 662 Schelfhout Ln. Suite E\, Kimberly\, WI\, 54136\, United States
CATEGORIES:Bible Study,Midweek Class/Gathering
END:VEVENT
BEGIN:VEVENT
DTSTART;TZID=America/Chicago:20270317T183000
DTEND;TZID=America/Chicago:20270317T200000
DTSTAMP:20260423T235558
CREATED:20260107T191954Z
LAST-MODIFIED:20260107T191954Z
UID:10257745-1805308200-1805313600@villagecommunitychurch.net
SUMMARY:Women's Wed night Bible Study
DESCRIPTION:All women are welcome to join us as we study Women of the Bible. We are currently in the Old Testament. The only book needed is a Bible!
URL:https://villagecommunitychurch.net/event/womens-wed-night-bible-study/2027-03-17/
LOCATION:Village Community Church\, 662 Schelfhout Ln. Suite E\, Kimberly\, WI\, 54136\, United States
CATEGORIES:Bible Study,Women's Event
END:VEVENT
BEGIN:VEVENT
DTSTART;TZID=America/Chicago:20270320T080000
DTEND;TZID=America/Chicago:20270320T093000
DTSTAMP:20260423T235558
CREATED:20250801T161819Z
LAST-MODIFIED:20250801T161819Z
UID:10257494-1805529600-1805535000@villagecommunitychurch.net
SUMMARY:Men's Bible Study
DESCRIPTION:Join us as we study the book of Judges. All men are welcome.
URL:https://villagecommunitychurch.net/event/mens-bible-study/2027-03-20/
LOCATION:Village Community Church\, 662 Schelfhout Ln. Suite E\, Kimberly\, WI\, 54136\, United States
CATEGORIES:Bible Study,Men's Event
END:VEVENT
BEGIN:VEVENT
DTSTART;TZID=America/Chicago:20270323T183000
DTEND;TZID=America/Chicago:20270323T193000
DTSTAMP:20260423T235558
CREATED:20260107T192614Z
LAST-MODIFIED:20260107T192614Z
UID:10258006-1805826600-1805830200@villagecommunitychurch.net
SUMMARY:Adult Inductive Bible Study
DESCRIPTION:Join us as we deepen our understanding of how to study the Bible. All are welcome.
URL:https://villagecommunitychurch.net/event/adult-inductive-bible-study/2027-03-23/
LOCATION:Village Community Church\, 662 Schelfhout Ln. Suite E\, Kimberly\, WI\, 54136\, United States
CATEGORIES:Bible Study,Midweek Class/Gathering
END:VEVENT
BEGIN:VEVENT
DTSTART;TZID=America/Chicago:20270324T183000
DTEND;TZID=America/Chicago:20270324T200000
DTSTAMP:20260423T235558
CREATED:20260107T191954Z
LAST-MODIFIED:20260107T191954Z
UID:10257746-1805913000-1805918400@villagecommunitychurch.net
SUMMARY:Women's Wed night Bible Study
DESCRIPTION:All women are welcome to join us as we study Women of the Bible. We are currently in the Old Testament. The only book needed is a Bible!
URL:https://villagecommunitychurch.net/event/womens-wed-night-bible-study/2027-03-24/
LOCATION:Village Community Church\, 662 Schelfhout Ln. Suite E\, Kimberly\, WI\, 54136\, United States
CATEGORIES:Bible Study,Women's Event
END:VEVENT
BEGIN:VEVENT
DTSTART;TZID=America/Chicago:20270327T080000
DTEND;TZID=America/Chicago:20270327T093000
DTSTAMP:20260423T235558
CREATED:20250801T161819Z
LAST-MODIFIED:20250801T161819Z
UID:10257495-1806134400-1806139800@villagecommunitychurch.net
SUMMARY:Men's Bible Study
DESCRIPTION:Join us as we study the book of Judges. All men are welcome.
URL:https://villagecommunitychurch.net/event/mens-bible-study/2027-03-27/
LOCATION:Village Community Church\, 662 Schelfhout Ln. Suite E\, Kimberly\, WI\, 54136\, United States
CATEGORIES:Bible Study,Men's Event
END:VEVENT
BEGIN:VEVENT
DTSTART;TZID=America/Chicago:20270330T183000
DTEND;TZID=America/Chicago:20270330T193000
DTSTAMP:20260423T235558
CREATED:20260107T192614Z
LAST-MODIFIED:20260107T192614Z
UID:10258007-1806431400-1806435000@villagecommunitychurch.net
SUMMARY:Adult Inductive Bible Study
DESCRIPTION:Join us as we deepen our understanding of how to study the Bible. All are welcome.
URL:https://villagecommunitychurch.net/event/adult-inductive-bible-study/2027-03-30/
LOCATION:Village Community Church\, 662 Schelfhout Ln. Suite E\, Kimberly\, WI\, 54136\, United States
CATEGORIES:Bible Study,Midweek Class/Gathering
END:VEVENT
BEGIN:VEVENT
DTSTART;TZID=America/Chicago:20270331T183000
DTEND;TZID=America/Chicago:20270331T200000
DTSTAMP:20260423T235558
CREATED:20260107T191954Z
LAST-MODIFIED:20260107T191954Z
UID:10257747-1806517800-1806523200@villagecommunitychurch.net
SUMMARY:Women's Wed night Bible Study
DESCRIPTION:All women are welcome to join us as we study Women of the Bible. We are currently in the Old Testament. The only book needed is a Bible!
URL:https://villagecommunitychurch.net/event/womens-wed-night-bible-study/2027-03-31/
LOCATION:Village Community Church\, 662 Schelfhout Ln. Suite E\, Kimberly\, WI\, 54136\, United States
CATEGORIES:Bible Study,Women's Event
END:VEVENT
BEGIN:VEVENT
DTSTART;TZID=America/Chicago:20270403T080000
DTEND;TZID=America/Chicago:20270403T093000
DTSTAMP:20260423T235558
CREATED:20250801T161819Z
LAST-MODIFIED:20250801T161819Z
UID:10257496-1806739200-1806744600@villagecommunitychurch.net
SUMMARY:Men's Bible Study
DESCRIPTION:Join us as we study the book of Judges. All men are welcome.
URL:https://villagecommunitychurch.net/event/mens-bible-study/2027-04-03/
LOCATION:Village Community Church\, 662 Schelfhout Ln. Suite E\, Kimberly\, WI\, 54136\, United States
CATEGORIES:Bible Study,Men's Event
END:VEVENT
BEGIN:VEVENT
DTSTART;TZID=America/Chicago:20270406T183000
DTEND;TZID=America/Chicago:20270406T193000
DTSTAMP:20260423T235558
CREATED:20260107T192614Z
LAST-MODIFIED:20260107T192614Z
UID:10258008-1807036200-1807039800@villagecommunitychurch.net
SUMMARY:Adult Inductive Bible Study
DESCRIPTION:Join us as we deepen our understanding of how to study the Bible. All are welcome.
URL:https://villagecommunitychurch.net/event/adult-inductive-bible-study/2027-04-06/
LOCATION:Village Community Church\, 662 Schelfhout Ln. Suite E\, Kimberly\, WI\, 54136\, United States
CATEGORIES:Bible Study,Midweek Class/Gathering
END:VEVENT
BEGIN:VEVENT
DTSTART;TZID=America/Chicago:20270407T183000
DTEND;TZID=America/Chicago:20270407T200000
DTSTAMP:20260423T235558
CREATED:20260107T191954Z
LAST-MODIFIED:20260107T191954Z
UID:10257748-1807122600-1807128000@villagecommunitychurch.net
SUMMARY:Women's Wed night Bible Study
DESCRIPTION:All women are welcome to join us as we study Women of the Bible. We are currently in the Old Testament. The only book needed is a Bible!
URL:https://villagecommunitychurch.net/event/womens-wed-night-bible-study/2027-04-07/
LOCATION:Village Community Church\, 662 Schelfhout Ln. Suite E\, Kimberly\, WI\, 54136\, United States
CATEGORIES:Bible Study,Women's Event
END:VEVENT
BEGIN:VEVENT
DTSTART;TZID=America/Chicago:20270410T080000
DTEND;TZID=America/Chicago:20270410T093000
DTSTAMP:20260423T235558
CREATED:20250801T161819Z
LAST-MODIFIED:20250801T161819Z
UID:10257497-1807344000-1807349400@villagecommunitychurch.net
SUMMARY:Men's Bible Study
DESCRIPTION:Join us as we study the book of Judges. All men are welcome.
URL:https://villagecommunitychurch.net/event/mens-bible-study/2027-04-10/
LOCATION:Village Community Church\, 662 Schelfhout Ln. Suite E\, Kimberly\, WI\, 54136\, United States
CATEGORIES:Bible Study,Men's Event
END:VEVENT
BEGIN:VEVENT
DTSTART;TZID=America/Chicago:20270413T183000
DTEND;TZID=America/Chicago:20270413T193000
DTSTAMP:20260423T235558
CREATED:20260107T192614Z
LAST-MODIFIED:20260107T192614Z
UID:10258009-1807641000-1807644600@villagecommunitychurch.net
SUMMARY:Adult Inductive Bible Study
DESCRIPTION:Join us as we deepen our understanding of how to study the Bible. All are welcome.
URL:https://villagecommunitychurch.net/event/adult-inductive-bible-study/2027-04-13/
LOCATION:Village Community Church\, 662 Schelfhout Ln. Suite E\, Kimberly\, WI\, 54136\, United States
CATEGORIES:Bible Study,Midweek Class/Gathering
END:VEVENT
BEGIN:VEVENT
DTSTART;TZID=America/Chicago:20270414T183000
DTEND;TZID=America/Chicago:20270414T200000
DTSTAMP:20260423T235558
CREATED:20260107T191954Z
LAST-MODIFIED:20260107T191954Z
UID:10257749-1807727400-1807732800@villagecommunitychurch.net
SUMMARY:Women's Wed night Bible Study
DESCRIPTION:All women are welcome to join us as we study Women of the Bible. We are currently in the Old Testament. The only book needed is a Bible!
URL:https://villagecommunitychurch.net/event/womens-wed-night-bible-study/2027-04-14/
LOCATION:Village Community Church\, 662 Schelfhout Ln. Suite E\, Kimberly\, WI\, 54136\, United States
CATEGORIES:Bible Study,Women's Event
END:VEVENT
BEGIN:VEVENT
DTSTART;TZID=America/Chicago:20270417T080000
DTEND;TZID=America/Chicago:20270417T093000
DTSTAMP:20260423T235558
CREATED:20250801T161819Z
LAST-MODIFIED:20250801T161819Z
UID:10257498-1807948800-1807954200@villagecommunitychurch.net
SUMMARY:Men's Bible Study
DESCRIPTION:Join us as we study the book of Judges. All men are welcome.
URL:https://villagecommunitychurch.net/event/mens-bible-study/2027-04-17/
LOCATION:Village Community Church\, 662 Schelfhout Ln. Suite E\, Kimberly\, WI\, 54136\, United States
CATEGORIES:Bible Study,Men's Event
END:VEVENT
BEGIN:VEVENT
DTSTART;TZID=America/Chicago:20270420T183000
DTEND;TZID=America/Chicago:20270420T193000
DTSTAMP:20260423T235558
CREATED:20260107T192614Z
LAST-MODIFIED:20260107T192614Z
UID:10258010-1808245800-1808249400@villagecommunitychurch.net
SUMMARY:Adult Inductive Bible Study
DESCRIPTION:Join us as we deepen our understanding of how to study the Bible. All are welcome.
URL:https://villagecommunitychurch.net/event/adult-inductive-bible-study/2027-04-20/
LOCATION:Village Community Church\, 662 Schelfhout Ln. Suite E\, Kimberly\, WI\, 54136\, United States
CATEGORIES:Bible Study,Midweek Class/Gathering
END:VEVENT
BEGIN:VEVENT
DTSTART;TZID=America/Chicago:20270421T183000
DTEND;TZID=America/Chicago:20270421T200000
DTSTAMP:20260423T235558
CREATED:20260107T191954Z
LAST-MODIFIED:20260107T191954Z
UID:10257750-1808332200-1808337600@villagecommunitychurch.net
SUMMARY:Women's Wed night Bible Study
DESCRIPTION:All women are welcome to join us as we study Women of the Bible. We are currently in the Old Testament. The only book needed is a Bible!
URL:https://villagecommunitychurch.net/event/womens-wed-night-bible-study/2027-04-21/
LOCATION:Village Community Church\, 662 Schelfhout Ln. Suite E\, Kimberly\, WI\, 54136\, United States
CATEGORIES:Bible Study,Women's Event
END:VEVENT
BEGIN:VEVENT
DTSTART;TZID=America/Chicago:20270424T080000
DTEND;TZID=America/Chicago:20270424T093000
DTSTAMP:20260423T235558
CREATED:20250801T161819Z
LAST-MODIFIED:20250801T161819Z
UID:10257499-1808553600-1808559000@villagecommunitychurch.net
SUMMARY:Men's Bible Study
DESCRIPTION:Join us as we study the book of Judges. All men are welcome.
URL:https://villagecommunitychurch.net/event/mens-bible-study/2027-04-24/
LOCATION:Village Community Church\, 662 Schelfhout Ln. Suite E\, Kimberly\, WI\, 54136\, United States
CATEGORIES:Bible Study,Men's Event
END:VEVENT
BEGIN:VEVENT
DTSTART;TZID=America/Chicago:20270427T183000
DTEND;TZID=America/Chicago:20270427T193000
DTSTAMP:20260423T235558
CREATED:20260107T192614Z
LAST-MODIFIED:20260107T192614Z
UID:10258011-1808850600-1808854200@villagecommunitychurch.net
SUMMARY:Adult Inductive Bible Study
DESCRIPTION:Join us as we deepen our understanding of how to study the Bible. All are welcome.
URL:https://villagecommunitychurch.net/event/adult-inductive-bible-study/2027-04-27/
LOCATION:Village Community Church\, 662 Schelfhout Ln. Suite E\, Kimberly\, WI\, 54136\, United States
CATEGORIES:Bible Study,Midweek Class/Gathering
END:VEVENT
BEGIN:VEVENT
DTSTART;TZID=America/Chicago:20270428T183000
DTEND;TZID=America/Chicago:20270428T200000
DTSTAMP:20260423T235558
CREATED:20260107T191954Z
LAST-MODIFIED:20260107T191954Z
UID:10257751-1808937000-1808942400@villagecommunitychurch.net
SUMMARY:Women's Wed night Bible Study
DESCRIPTION:All women are welcome to join us as we study Women of the Bible. We are currently in the Old Testament. The only book needed is a Bible!
URL:https://villagecommunitychurch.net/event/womens-wed-night-bible-study/2027-04-28/
LOCATION:Village Community Church\, 662 Schelfhout Ln. Suite E\, Kimberly\, WI\, 54136\, United States
CATEGORIES:Bible Study,Women's Event
END:VEVENT
BEGIN:VEVENT
DTSTART;TZID=America/Chicago:20270501T080000
DTEND;TZID=America/Chicago:20270501T093000
DTSTAMP:20260423T235558
CREATED:20250801T161819Z
LAST-MODIFIED:20250801T161819Z
UID:10257500-1809158400-1809163800@villagecommunitychurch.net
SUMMARY:Men's Bible Study
DESCRIPTION:Join us as we study the book of Judges. All men are welcome.
URL:https://villagecommunitychurch.net/event/mens-bible-study/2027-05-01/
LOCATION:Village Community Church\, 662 Schelfhout Ln. Suite E\, Kimberly\, WI\, 54136\, United States
CATEGORIES:Bible Study,Men's Event
END:VEVENT
BEGIN:VEVENT
DTSTART;TZID=America/Chicago:20270504T183000
DTEND;TZID=America/Chicago:20270504T193000
DTSTAMP:20260423T235558
CREATED:20260107T192614Z
LAST-MODIFIED:20260107T192614Z
UID:10258012-1809455400-1809459000@villagecommunitychurch.net
SUMMARY:Adult Inductive Bible Study
DESCRIPTION:Join us as we deepen our understanding of how to study the Bible. All are welcome.
URL:https://villagecommunitychurch.net/event/adult-inductive-bible-study/2027-05-04/
LOCATION:Village Community Church\, 662 Schelfhout Ln. Suite E\, Kimberly\, WI\, 54136\, United States
CATEGORIES:Bible Study,Midweek Class/Gathering
END:VEVENT
BEGIN:VEVENT
DTSTART;TZID=America/Chicago:20270505T183000
DTEND;TZID=America/Chicago:20270505T200000
DTSTAMP:20260423T235558
CREATED:20260107T191954Z
LAST-MODIFIED:20260107T191954Z
UID:10257752-1809541800-1809547200@villagecommunitychurch.net
SUMMARY:Women's Wed night Bible Study
DESCRIPTION:All women are welcome to join us as we study Women of the Bible. We are currently in the Old Testament. The only book needed is a Bible!
URL:https://villagecommunitychurch.net/event/womens-wed-night-bible-study/2027-05-05/
LOCATION:Village Community Church\, 662 Schelfhout Ln. Suite E\, Kimberly\, WI\, 54136\, United States
CATEGORIES:Bible Study,Women's Event
END:VEVENT
END:VCALENDAR